|SUCCESS| pw140673-140674 [PATCH] [V2,2/2] app/testpmd: introduce VX
dpdklab at iol.unh.edu
dpdklab at iol.unh.edu
Tue Jun 4 13:02:20 CEST 2024
Test-Label: iol-unit-arm64-testing
Test-Status: SUCCESS
http://dpdk.org/patch/140674
_Testing PASS_
Submitter: Gavin Li <gavinl at nvidia.com>
Date: Tuesday, June 04 2024 06:27:45
DPDK git baseline: Repo:dpdk
Branch: master
CommitID:2dbb63594a9a985e2c8639b57f9fcd1468b9de97
140673-140674 --> testing pass
Test environment and result as below:
+-----------------------------+--------------+----------------+---------------------------+
| Environment | lpm_autotest | dpdk_unit_test | cryptodev_sw_zuc_autotest |
+=============================+==============+================+===========================+
| Ubuntu 20.04 ARM SVE | PASS | SKIPPED | SKIPPED |
+-----------------------------+--------------+----------------+---------------------------+
| 32-bit Ubuntu 20.04.4 (ARM) | SKIPPED | PASS | SKIPPED |
+-----------------------------+--------------+----------------+---------------------------+
| Debian 11 (Buster) (ARM) | SKIPPED | PASS | SKIPPED |
+-----------------------------+--------------+----------------+---------------------------+
| Debian 12 (arm) | SKIPPED | PASS | PASS |
+-----------------------------+--------------+----------------+---------------------------+
Ubuntu 20.04 ARM SVE
Kernel: 5.4.0-167-generic
Compiler: gcc (Ubuntu 10.5.0-1ubuntu1~20.04) 10.5.0
32-bit Ubuntu 20.04.4 (ARM)
Kernel: 5.4.0-155-generic aarch64
Compiler: gcc 9.4
Debian 11 (Buster) (ARM)
Kernel: Container Host Kernel
Compiler: gcc 10.2.1
Debian 12 (arm)
Kernel: Container Host Kernel
Compiler: gcc 12.2.0
To view detailed results, visit:
https://lab.dpdk.org/results/dashboard/patchsets/30095/
UNH-IOL DPDK Community Lab
To manage your email subscriptions, visit:
https://lab.dpdk.org/results/dashboard/preferences/subscriptions/
More information about the test-report
mailing list