|SUCCESS| pw140675-140695 [PATCH] [v2,21/21] drivers: adding type to

dpdklab at iol.unh.edu dpdklab at iol.unh.edu
Tue Jun 4 13:48:40 CEST 2024


Test-Label: iol-compile-amd64-testing
Test-Status: SUCCESS
http://dpdk.org/patch/140695

_Testing PASS_

Submitter: Soumyadeep Hore <soumyadeep.hore at intel.com>
Date: Tuesday, June 04 2024 08:06:11 
DPDK git baseline: Repo:dpdk
  Branch: master
  CommitID:0d761dfc89b71fa46193a545cce3fbe2613856a6

140675-140695 --> testing pass

Test environment and result as below:

+---------------------+-------------------+--------------------+----------------------+------------------+
|     Environment     | dpdk_msvc_compile | dpdk_meson_compile | dpdk_mingw64_compile | dpdk_compile_ovs |
+=====================+===================+====================+======================+==================+
| Windows Server 2022 | PASS              | PASS               | PASS                 | SKIPPED          |
+---------------------+-------------------+--------------------+----------------------+------------------+
| FreeBSD 13.3        | SKIPPED           | PASS               | SKIPPED              | SKIPPED          |
+---------------------+-------------------+--------------------+----------------------+------------------+
| FreeBSD 14.0        | SKIPPED           | PASS               | SKIPPED              | SKIPPED          |
+---------------------+-------------------+--------------------+----------------------+------------------+
| Windows Server 2019 | SKIPPED           | PASS               | PASS                 | SKIPPED          |
+---------------------+-------------------+--------------------+----------------------+------------------+
| CentOS Stream 9     | SKIPPED           | PASS               | SKIPPED              | PASS             |
+---------------------+-------------------+--------------------+----------------------+------------------+
| CentOS Stream 8     | SKIPPED           | PASS               | SKIPPED              | PASS             |
+---------------------+-------------------+--------------------+----------------------+------------------+
| Fedora 37           | SKIPPED           | PASS               | SKIPPED              | PASS             |
+---------------------+-------------------+--------------------+----------------------+------------------+
| Debian 12           | SKIPPED           | PASS               | SKIPPED              | PASS             |
+---------------------+-------------------+--------------------+----------------------+------------------+
| Fedora 38           | SKIPPED           | PASS               | SKIPPED              | PASS             |
+---------------------+-------------------+--------------------+----------------------+------------------+
| Debian Bullseye     | SKIPPED           | PASS               | SKIPPED              | PASS             |
+---------------------+-------------------+--------------------+----------------------+------------------+
| Ubuntu 22.04        | SKIPPED           | PASS               | SKIPPED              | PASS             |
+---------------------+-------------------+--------------------+----------------------+------------------+
| RHEL8               | SKIPPED           | PASS               | SKIPPED              | PASS             |
+---------------------+-------------------+--------------------+----------------------+------------------+
| Ubuntu 24.04        | SKIPPED           | PASS               | SKIPPED              | PASS             |
+---------------------+-------------------+--------------------+----------------------+------------------+
| openSUSE Leap 15    | SKIPPED           | PASS               | SKIPPED              | PASS             |
+---------------------+-------------------+--------------------+----------------------+------------------+


Windows Server 2022
	Kernel: 10.0.20348.2031
	Compiler: clang 15.0.7, gcc 8.1.0 (MinGW), and MSVC VS 17.9

FreeBSD 13.3
	Kernel: 13.3-RELEASE-p1
	Compiler: clang 17.0.6

FreeBSD 14.0
	Kernel: 14.0
	Compiler: clang 16.0.6

Windows Server 2019
	Kernel: 10.0.17763
	Compiler: clang 14.0 and gcc 8.1.0 (MinGW)

CentOS Stream 9
	Kernel: 5.4.0-167-generic
	Compiler: gcc 11.4.1 20230605

CentOS Stream 8
	Kernel: 5.4.0-167-generic
	Compiler: gcc 8.5.0 20210514

Fedora 37
	Kernel: Depends on container host system
	Compiler: gcc 12.3.1

Debian 12
	Kernel: Container Host Kernel
	Compiler: gcc 10.2.1

Fedora 38
	Kernel: Depends on container host
	Compiler: gcc 13.2.1

Debian Bullseye
	Kernel: 5.4.0-167-generic
	Compiler: gcc 10.2.1-6

Ubuntu 22.04
	Kernel: 5.4.0-167-generic
	Compiler: gcc 11.4.0

RHEL8
	Kernel: 5.4.0-167-generic
	Compiler: gcc 8.5.0 20210514 (Red Hat 8.5.0-20)

Ubuntu 24.04
	Kernel: 5.4.0-167-generic
	Compiler: gcc 13.2.0

openSUSE Leap 15
	Kernel: 5.4.0-167-generic
	Compiler: gcc 7.5.0

To view detailed results, visit:
https://lab.dpdk.org/results/dashboard/patchsets/30096/

UNH-IOL DPDK Community Lab

To manage your email subscriptions, visit: 
https://lab.dpdk.org/results/dashboard/preferences/subscriptions/


More information about the test-report mailing list