|SUCCESS| pw140675-140695 [PATCH] [v2,21/21] drivers: adding type to
dpdklab at iol.unh.edu
dpdklab at iol.unh.edu
Tue Jun 4 13:59:06 CEST 2024
Test-Label: iol-unit-arm64-testing
Test-Status: SUCCESS
http://dpdk.org/patch/140695
_Testing PASS_
Submitter: Soumyadeep Hore <soumyadeep.hore at intel.com>
Date: Tuesday, June 04 2024 08:06:11
DPDK git baseline: Repo:dpdk
Branch: master
CommitID:0d761dfc89b71fa46193a545cce3fbe2613856a6
140675-140695 --> testing pass
Test environment and result as below:
+-----------------------------+----------------+--------------+---------------------------+
| Environment | dpdk_unit_test | lpm_autotest | cryptodev_sw_zuc_autotest |
+=============================+================+==============+===========================+
| 32-bit Ubuntu 20.04.4 (ARM) | PASS | SKIPPED | SKIPPED |
+-----------------------------+----------------+--------------+---------------------------+
| Ubuntu 20.04 ARM SVE | SKIPPED | PASS | SKIPPED |
+-----------------------------+----------------+--------------+---------------------------+
| Debian 12 (arm) | SKIPPED | SKIPPED | PASS |
+-----------------------------+----------------+--------------+---------------------------+
32-bit Ubuntu 20.04.4 (ARM)
Kernel: 5.4.0-155-generic aarch64
Compiler: gcc 9.4
Ubuntu 20.04 ARM SVE
Kernel: 5.4.0-167-generic
Compiler: gcc (Ubuntu 10.5.0-1ubuntu1~20.04) 10.5.0
Debian 12 (arm)
Kernel: Container Host Kernel
Compiler: gcc 12.2.0
To view detailed results, visit:
https://lab.dpdk.org/results/dashboard/patchsets/30096/
UNH-IOL DPDK Community Lab
To manage your email subscriptions, visit:
https://lab.dpdk.org/results/dashboard/preferences/subscriptions/
More information about the test-report
mailing list