|SUCCESS| pw140639-140640 [PATCH] [v3,17/17] net/ntnic: add NIM modu

dpdklab at iol.unh.edu dpdklab at iol.unh.edu
Tue Jun 4 22:17:51 CEST 2024


Test-Label: iol-unit-arm64-testing
Test-Status: SUCCESS
http://dpdk.org/patch/140640

_Testing PASS_

Submitter: Serhii Iliushyk <sil-plv at napatech.com>
Date: Monday, June 03 2024 16:18:14 
DPDK git baseline: Repo:dpdk
  Branch: master
  CommitID:a6bbf008457a455fcf4cf7374c280bba697a353f

140639-140640 --> testing pass

Test environment and result as below:

+-----------------------------+----------------+
|         Environment         | dpdk_unit_test |
+=============================+================+
| 32-bit Ubuntu 20.04.4 (ARM) | PASS           |
+-----------------------------+----------------+
| Debian 12 (arm)             | PASS           |
+-----------------------------+----------------+
| CentOS Stream 9 (ARM)       | PASS           |
+-----------------------------+----------------+


32-bit Ubuntu 20.04.4 (ARM)
	Kernel: 5.4.0-155-generic aarch64
	Compiler: gcc 9.4

Debian 12 (arm)
	Kernel: Container Host Kernel
	Compiler: gcc 12.2.0

CentOS Stream 9 (ARM)
	Kernel: Container Host Kernel
	Compiler: gcc 11.4.1

To view detailed results, visit:
https://lab.dpdk.org/results/dashboard/patchsets/30088/

UNH-IOL DPDK Community Lab

To manage your email subscriptions, visit: 
https://lab.dpdk.org/results/dashboard/preferences/subscriptions/


More information about the test-report mailing list