|SUCCESS| pw140731 [PATCH] net/mlx5: add queue hardware object conte

dpdklab at iol.unh.edu dpdklab at iol.unh.edu
Wed Jun 5 00:53:22 CEST 2024


Test-Label: iol-abi-testing
Test-Status: SUCCESS
http://dpdk.org/patch/140731

_Testing PASS_

Submitter: Kiran Vedere <kiranv at nvidia.com>
Date: Tuesday, June 04 2024 21:11:36 
DPDK git baseline: Repo:dpdk
  Branch: master
  CommitID:a207de9a356ef890dd858064ee94e15f0841f0e1

140731 --> testing pass

Test environment and result as below:

+-----------------+----------+
|   Environment   | abi_test |
+=================+==========+
| Debian Bullseye | PASS     |
+-----------------+----------+
| CentOS Stream 8 | PASS     |
+-----------------+----------+
| CentOS Stream 9 | PASS     |
+-----------------+----------+
| Fedora 39       | PASS     |
+-----------------+----------+
| Debian 12       | PASS     |
+-----------------+----------+
| Fedora 37       | PASS     |
+-----------------+----------+


Debian Bullseye
	Kernel: 5.4.0-167-generic
	Compiler: gcc 10.2.1-6

CentOS Stream 8
	Kernel: 5.4.0-167-generic
	Compiler: gcc 8.5.0 20210514

CentOS Stream 9
	Kernel: 5.4.0-167-generic
	Compiler: gcc 11.4.1 20230605

Fedora 39
	Kernel: Depends on container host
	Compiler: clang 17.0.6

Debian 12
	Kernel: Container Host Kernel
	Compiler: gcc 10.2.1

Fedora 37
	Kernel: Depends on container host system
	Compiler: gcc 12.3.1

To view detailed results, visit:
https://lab.dpdk.org/results/dashboard/patchsets/30104/

UNH-IOL DPDK Community Lab

To manage your email subscriptions, visit: 
https://lab.dpdk.org/results/dashboard/preferences/subscriptions/


More information about the test-report mailing list