|SUCCESS| pw140731 [PATCH] net/mlx5: add queue hardware object conte

dpdklab at iol.unh.edu dpdklab at iol.unh.edu
Wed Jun 5 00:54:21 CEST 2024


Test-Label: iol-unit-arm64-testing
Test-Status: SUCCESS
http://dpdk.org/patch/140731

_Testing PASS_

Submitter: Kiran Vedere <kiranv at nvidia.com>
Date: Tuesday, June 04 2024 21:11:36 
DPDK git baseline: Repo:dpdk
  Branch: master
  CommitID:a207de9a356ef890dd858064ee94e15f0841f0e1

140731 --> testing pass

Test environment and result as below:

+--------------------------+------------------------------+---------------------------+----------------+--------------+
|       Environment        | cryptodev_sw_snow3g_autotest | cryptodev_sw_zuc_autotest | dpdk_unit_test | lpm_autotest |
+==========================+==============================+===========================+================+==============+
| Debian 12 (arm)          | PASS                         | PASS                      | PASS           | SKIPPED      |
+--------------------------+------------------------------+---------------------------+----------------+--------------+
| CentOS Stream 9 (ARM)    | SKIPPED                      | SKIPPED                   | PASS           | SKIPPED      |
+--------------------------+------------------------------+---------------------------+----------------+--------------+
| Debian 11 (Buster) (ARM) | SKIPPED                      | SKIPPED                   | PASS           | SKIPPED      |
+--------------------------+------------------------------+---------------------------+----------------+--------------+
| Fedora 38 (ARM)          | SKIPPED                      | SKIPPED                   | PASS           | SKIPPED      |
+--------------------------+------------------------------+---------------------------+----------------+--------------+
| Ubuntu 20.04 ARM SVE     | SKIPPED                      | SKIPPED                   | SKIPPED        | PASS         |
+--------------------------+------------------------------+---------------------------+----------------+--------------+


Debian 12 (arm)
	Kernel: Container Host Kernel
	Compiler: gcc 12.2.0

CentOS Stream 9 (ARM)
	Kernel: Container Host Kernel
	Compiler: gcc 11.4.1

Debian 11 (Buster) (ARM)
	Kernel: Container Host Kernel
	Compiler: gcc 10.2.1

Fedora 38 (ARM)
	Kernel: Depends on container host
	Compiler: gcc 13.2.1

Ubuntu 20.04 ARM SVE
	Kernel: 5.4.0-167-generic
	Compiler: gcc (Ubuntu 10.5.0-1ubuntu1~20.04) 10.5.0

To view detailed results, visit:
https://lab.dpdk.org/results/dashboard/patchsets/30104/

UNH-IOL DPDK Community Lab

To manage your email subscriptions, visit: 
https://lab.dpdk.org/results/dashboard/preferences/subscriptions/


More information about the test-report mailing list