|SUCCESS| pw140730 [PATCH] [v2] eventdev/crypto: restore opaque fiel

dpdklab at iol.unh.edu dpdklab at iol.unh.edu
Wed Jun 5 02:06:29 CEST 2024


Test-Label: iol-unit-arm64-testing
Test-Status: SUCCESS
http://dpdk.org/patch/140730

_Testing PASS_

Submitter: Ganapati Kundapura <ganapati.kundapura at intel.com>
Date: Tuesday, June 04 2024 16:18:48 
DPDK git baseline: Repo:dpdk
  Branch: master
  CommitID:229d27a82792fab339d78b9bec26a0f395674d43

140730 --> testing pass

Test environment and result as below:

+-----------------------------+----------------+---------------------------+
|         Environment         | dpdk_unit_test | cryptodev_sw_zuc_autotest |
+=============================+================+===========================+
| CentOS Stream 9 (ARM)       | PASS           | SKIPPED                   |
+-----------------------------+----------------+---------------------------+
| Debian 11 (Buster) (ARM)    | PASS           | SKIPPED                   |
+-----------------------------+----------------+---------------------------+
| Fedora 38 (ARM)             | PASS           | SKIPPED                   |
+-----------------------------+----------------+---------------------------+
| Debian 12 (arm)             | PASS           | PASS                      |
+-----------------------------+----------------+---------------------------+
| Fedora 37 (ARM)             | PASS           | SKIPPED                   |
+-----------------------------+----------------+---------------------------+
| Fedora 39 (ARM)             | PASS           | SKIPPED                   |
+-----------------------------+----------------+---------------------------+
| 32-bit Ubuntu 20.04.4 (ARM) | PASS           | SKIPPED                   |
+-----------------------------+----------------+---------------------------+
| Ubuntu 20.04 (ARM)          | PASS           | SKIPPED                   |
+-----------------------------+----------------+---------------------------+
| Fedora 38 (ARM Clang)       | PASS           | SKIPPED                   |
+-----------------------------+----------------+---------------------------+
| Ubuntu 22.04 (ARM)          | PASS           | SKIPPED                   |
+-----------------------------+----------------+---------------------------+
| Fedora 39 (ARM Clang)       | PASS           | SKIPPED                   |
+-----------------------------+----------------+---------------------------+


CentOS Stream 9 (ARM)
	Kernel: Container Host Kernel
	Compiler: gcc 11.4.1

Debian 11 (Buster) (ARM)
	Kernel: Container Host Kernel
	Compiler: gcc 10.2.1

Fedora 38 (ARM)
	Kernel: Depends on container host
	Compiler: gcc 13.2.1

Debian 12 (arm)
	Kernel: Container Host Kernel
	Compiler: gcc 12.2.0

Fedora 37 (ARM)
	Kernel: Depends on container host
	Compiler: gcc 12.3.1

Fedora 39 (ARM)
	Kernel: Depends on container host
	Compiler: gcc 13.2.1

32-bit Ubuntu 20.04.4 (ARM)
	Kernel: 5.4.0-155-generic aarch64
	Compiler: gcc 9.4

Ubuntu 20.04 (ARM)
	Kernel: Container Host Kernel
	Compiler: gcc 9.4.0

Fedora 38 (ARM Clang)
	Kernel: Depends on container host
	Compiler: clang 16.0.6

Ubuntu 22.04 (ARM)
	Kernel: Container Host Kernel
	Compiler: gcc 11.4.0

Fedora 39 (ARM Clang)
	Kernel: Depends on container host
	Compiler: clang 17.0.6

To view detailed results, visit:
https://lab.dpdk.org/results/dashboard/patchsets/30103/

UNH-IOL DPDK Community Lab

To manage your email subscriptions, visit: 
https://lab.dpdk.org/results/dashboard/preferences/subscriptions/


More information about the test-report mailing list