|SUCCESS| pw140730 [PATCH] [v2] eventdev/crypto: restore opaque fiel
dpdklab at iol.unh.edu
dpdklab at iol.unh.edu
Wed Jun 5 02:22:32 CEST 2024
Test-Label: iol-compile-amd64-testing
Test-Status: SUCCESS
http://dpdk.org/patch/140730
_Testing PASS_
Submitter: Ganapati Kundapura <ganapati.kundapura at intel.com>
Date: Tuesday, June 04 2024 16:18:48
DPDK git baseline: Repo:dpdk
Branch: master
CommitID:229d27a82792fab339d78b9bec26a0f395674d43
140730 --> testing pass
Test environment and result as below:
+---------------------+--------------------+----------------------+-------------------+------------------+-------------------+
| Environment | dpdk_meson_compile | dpdk_mingw64_compile | dpdk_msvc_compile | dpdk_compile_ovs | dpdk_compile_spdk |
+=====================+====================+======================+===================+==================+===================+
| FreeBSD 13.3 | PASS | SKIPPED | SKIPPED | SKIPPED | SKIPPED |
+---------------------+--------------------+----------------------+-------------------+------------------+-------------------+
| FreeBSD 14.0 | PASS | SKIPPED | SKIPPED | SKIPPED | SKIPPED |
+---------------------+--------------------+----------------------+-------------------+------------------+-------------------+
| Windows Server 2019 | PASS | PASS | SKIPPED | SKIPPED | SKIPPED |
+---------------------+--------------------+----------------------+-------------------+------------------+-------------------+
| Windows Server 2022 | PASS | PASS | PASS | SKIPPED | SKIPPED |
+---------------------+--------------------+----------------------+-------------------+------------------+-------------------+
| Debian Bullseye | PASS | SKIPPED | SKIPPED | PASS | PASS |
+---------------------+--------------------+----------------------+-------------------+------------------+-------------------+
| CentOS Stream 9 | PASS | SKIPPED | SKIPPED | PASS | PASS |
+---------------------+--------------------+----------------------+-------------------+------------------+-------------------+
| Debian 12 | PASS | SKIPPED | SKIPPED | PASS | SKIPPED |
+---------------------+--------------------+----------------------+-------------------+------------------+-------------------+
| Fedora 38 | PASS | SKIPPED | SKIPPED | PASS | PASS |
+---------------------+--------------------+----------------------+-------------------+------------------+-------------------+
FreeBSD 13.3
Kernel: 13.3-RELEASE-p1
Compiler: clang 17.0.6
FreeBSD 14.0
Kernel: 14.0
Compiler: clang 16.0.6
Windows Server 2019
Kernel: 10.0.17763
Compiler: clang 14.0 and gcc 8.1.0 (MinGW)
Windows Server 2022
Kernel: 10.0.20348.2031
Compiler: clang 15.0.7, gcc 8.1.0 (MinGW), and MSVC VS 17.9
Debian Bullseye
Kernel: 5.4.0-167-generic
Compiler: gcc 10.2.1-6
CentOS Stream 9
Kernel: 5.4.0-167-generic
Compiler: gcc 11.4.1 20230605
Debian 12
Kernel: Container Host Kernel
Compiler: gcc 10.2.1
Fedora 38
Kernel: Depends on container host
Compiler: gcc 13.2.1
To view detailed results, visit:
https://lab.dpdk.org/results/dashboard/patchsets/30103/
UNH-IOL DPDK Community Lab
To manage your email subscriptions, visit:
https://lab.dpdk.org/results/dashboard/preferences/subscriptions/
More information about the test-report
mailing list