|SUCCESS| pw140732 [PATCH] net/mlx5: validate HWS template items
dpdklab at iol.unh.edu
dpdklab at iol.unh.edu
Wed Jun 5 09:18:29 CEST 2024
Test-Label: iol-abi-testing
Test-Status: SUCCESS
http://dpdk.org/patch/140732
_Testing PASS_
Submitter: Gregory Etelson <getelson at nvidia.com>
Date: Wednesday, June 05 2024 04:27:08
DPDK git baseline: Repo:dpdk
Branch: master
CommitID:a207de9a356ef890dd858064ee94e15f0841f0e1
140732 --> testing pass
Test environment and result as below:
+-----------------+----------+
| Environment | abi_test |
+=================+==========+
| Debian 12 | PASS |
+-----------------+----------+
| CentOS Stream 9 | PASS |
+-----------------+----------+
| Debian Bullseye | PASS |
+-----------------+----------+
| Ubuntu 22.04 | PASS |
+-----------------+----------+
| Fedora 38 | PASS |
+-----------------+----------+
| Fedora 37 | PASS |
+-----------------+----------+
| CentOS Stream 8 | PASS |
+-----------------+----------+
Debian 12
Kernel: Container Host Kernel
Compiler: gcc 10.2.1
CentOS Stream 9
Kernel: 5.4.0-167-generic
Compiler: gcc 11.4.1 20230605
Debian Bullseye
Kernel: 5.4.0-167-generic
Compiler: gcc 10.2.1-6
Ubuntu 22.04
Kernel: 5.4.0-167-generic
Compiler: gcc 11.4.0
Fedora 38
Kernel: Depends on container host
Compiler: clang 16.0.6
Fedora 37
Kernel: Depends on container host system
Compiler: gcc 12.3.1
CentOS Stream 8
Kernel: 5.4.0-167-generic
Compiler: gcc 8.5.0 20210514
To view detailed results, visit:
https://lab.dpdk.org/results/dashboard/patchsets/30105/
UNH-IOL DPDK Community Lab
To manage your email subscriptions, visit:
https://lab.dpdk.org/results/dashboard/preferences/subscriptions/
More information about the test-report
mailing list