|SUCCESS| pw140755-140756 [PATCH] [v7,3/3] net/mlx5: implement VXLAN

dpdklab at iol.unh.edu dpdklab at iol.unh.edu
Wed Jun 5 21:17:19 CEST 2024


Test-Label: iol-compile-arm64-testing
Test-Status: SUCCESS
http://dpdk.org/patch/140756

_Testing PASS_

Submitter: Rongwei Liu <rongweil at nvidia.com>
Date: Wednesday, June 05 2024 13:04:19 
DPDK git baseline: Repo:dpdk
  Branch: master
  CommitID:a6bbf008457a455fcf4cf7374c280bba697a353f

140755-140756 --> testing pass

Test environment and result as below:

+-----------------------+--------------------+
|      Environment      | dpdk_meson_compile |
+=======================+====================+
| Ubuntu 20.04 ARM SVE  | PASS               |
+-----------------------+--------------------+
| Debian 12 with MUSDK  | PASS               |
+-----------------------+--------------------+
| CentOS Stream 9 (ARM) | PASS               |
+-----------------------+--------------------+
| Fedora 37 (ARM)       | PASS               |
+-----------------------+--------------------+


Ubuntu 20.04 ARM SVE
	Kernel: 5.4.0-167-generic
	Compiler: gcc (Ubuntu 10.5.0-1ubuntu1~20.04) 10.5.0

Debian 12 with MUSDK
	Kernel: Container Host Kernel
	Compiler: gcc 12.2.0

CentOS Stream 9 (ARM)
	Kernel: Container Host Kernel
	Compiler: gcc 11.4.1

Fedora 37 (ARM)
	Kernel: Depends on container host
	Compiler: gcc 12.3.1

To view detailed results, visit:
https://lab.dpdk.org/results/dashboard/patchsets/30115/

UNH-IOL DPDK Community Lab

To manage your email subscriptions, visit: 
https://lab.dpdk.org/results/dashboard/preferences/subscriptions/


More information about the test-report mailing list