|SUCCESS| pw140738-140739 [PATCH] [5/5] eal: provide option to use c

dpdklab at iol.unh.edu dpdklab at iol.unh.edu
Wed Jun 5 22:48:58 CEST 2024


Test-Label: iol-compile-amd64-testing
Test-Status: SUCCESS
http://dpdk.org/patch/140739

_Testing PASS_

Submitter: Mattias Ronnblom <mattias.ronnblom at ericsson.com>
Date: Wednesday, June 05 2024 06:49:45 
DPDK git baseline: Repo:dpdk
  Branch: master
  CommitID:76cef1af8bdaeaf67a5c4ca5df3f221df994dc46

140738-140739 --> testing pass

Test environment and result as below:

+---------------------+-------------------+--------------------+----------------------+------------------+-------------------+
|     Environment     | dpdk_msvc_compile | dpdk_meson_compile | dpdk_mingw64_compile | dpdk_compile_ovs | dpdk_compile_spdk |
+=====================+===================+====================+======================+==================+===================+
| Windows Server 2022 | PASS              | PASS               | PASS                 | SKIPPED          | SKIPPED           |
+---------------------+-------------------+--------------------+----------------------+------------------+-------------------+
| FreeBSD 14.0        | SKIPPED           | PASS               | SKIPPED              | SKIPPED          | SKIPPED           |
+---------------------+-------------------+--------------------+----------------------+------------------+-------------------+
| Windows Server 2019 | SKIPPED           | PASS               | PASS                 | SKIPPED          | SKIPPED           |
+---------------------+-------------------+--------------------+----------------------+------------------+-------------------+
| FreeBSD 13.3        | SKIPPED           | PASS               | SKIPPED              | SKIPPED          | SKIPPED           |
+---------------------+-------------------+--------------------+----------------------+------------------+-------------------+
| CentOS Stream 8     | SKIPPED           | PASS               | SKIPPED              | PASS             | PASS              |
+---------------------+-------------------+--------------------+----------------------+------------------+-------------------+
| openSUSE Leap 15    | SKIPPED           | PASS               | SKIPPED              | PASS             | SKIPPED           |
+---------------------+-------------------+--------------------+----------------------+------------------+-------------------+
| Fedora 38           | SKIPPED           | PASS               | SKIPPED              | PASS             | PASS              |
+---------------------+-------------------+--------------------+----------------------+------------------+-------------------+
| Fedora 39           | SKIPPED           | PASS               | SKIPPED              | PASS             | PASS              |
+---------------------+-------------------+--------------------+----------------------+------------------+-------------------+
| Debian Bullseye     | SKIPPED           | PASS               | SKIPPED              | PASS             | PASS              |
+---------------------+-------------------+--------------------+----------------------+------------------+-------------------+
| CentOS Stream 9     | SKIPPED           | PASS               | SKIPPED              | PASS             | PASS              |
+---------------------+-------------------+--------------------+----------------------+------------------+-------------------+
| Debian 12           | SKIPPED           | PASS               | SKIPPED              | PASS             | SKIPPED           |
+---------------------+-------------------+--------------------+----------------------+------------------+-------------------+
| Ubuntu 22.04        | SKIPPED           | PASS               | SKIPPED              | PASS             | PASS              |
+---------------------+-------------------+--------------------+----------------------+------------------+-------------------+
| RHEL8               | SKIPPED           | PASS               | SKIPPED              | PASS             | SKIPPED           |
+---------------------+-------------------+--------------------+----------------------+------------------+-------------------+
| Alpine              | SKIPPED           | PASS               | SKIPPED              | PASS             | SKIPPED           |
+---------------------+-------------------+--------------------+----------------------+------------------+-------------------+
| Ubuntu 20.04        | SKIPPED           | PASS               | SKIPPED              | PASS             | SKIPPED           |
+---------------------+-------------------+--------------------+----------------------+------------------+-------------------+
| Fedora 37           | SKIPPED           | PASS               | SKIPPED              | PASS             | PASS              |
+---------------------+-------------------+--------------------+----------------------+------------------+-------------------+
| Ubuntu 24.04        | SKIPPED           | PASS               | SKIPPED              | PASS             | PASS              |
+---------------------+-------------------+--------------------+----------------------+------------------+-------------------+


Windows Server 2022
	Kernel: 10.0.20348.2031
	Compiler: clang 15.0.7, gcc 8.1.0 (MinGW), and MSVC VS 17.9

FreeBSD 14.0
	Kernel: 14.0
	Compiler: clang 16.0.6

Windows Server 2019
	Kernel: 10.0.17763
	Compiler: clang 14.0 and gcc 8.1.0 (MinGW)

FreeBSD 13.3
	Kernel: 13.3-RELEASE-p1
	Compiler: clang 17.0.6

CentOS Stream 8
	Kernel: 5.4.0-167-generic
	Compiler: gcc 8.5.0 20210514

openSUSE Leap 15
	Kernel: 5.4.0-167-generic
	Compiler: gcc 7.5.0

Fedora 38
	Kernel: Depends on container host
	Compiler: clang 16.0.6

Fedora 39
	Kernel: Depends on container host
	Compiler: clang 17.0.6

Debian Bullseye
	Kernel: 5.4.0-167-generic
	Compiler: gcc 10.2.1-6

CentOS Stream 9
	Kernel: 5.4.0-167-generic
	Compiler: gcc 11.4.1 20230605

Debian 12
	Kernel: Container Host Kernel
	Compiler: gcc 10.2.1

Ubuntu 22.04
	Kernel: 5.4.0-167-generic
	Compiler: gcc 11.4.0

RHEL8
	Kernel: 5.4.0-167-generic
	Compiler: gcc 8.5.0 20210514 (Red Hat 8.5.0-20)

Alpine
	Kernel: 5.4.0-167-generic
	Compiler: gcc (Alpine 13.2.1_git20231014) 13.2.1 20231014

Ubuntu 20.04
	Kernel: 5.4.0-167-generic
	Compiler: gcc 9.4.0-1ubuntu1~20.04.1

Fedora 37
	Kernel: Depends on container host system
	Compiler: gcc 12.3.1

Ubuntu 24.04
	Kernel: 5.4.0-167-generic
	Compiler: gcc 13.2.0

To view detailed results, visit:
https://lab.dpdk.org/results/dashboard/patchsets/30107/

UNH-IOL DPDK Community Lab

To manage your email subscriptions, visit: 
https://lab.dpdk.org/results/dashboard/preferences/subscriptions/


More information about the test-report mailing list