|SUCCESS| [GIT MASTER] 76cef1af8bdaeaf67a5c4ca5df3f221df994dc46

dpdklab at iol.unh.edu dpdklab at iol.unh.edu
Thu Jun 6 02:47:33 CEST 2024


_Testing PASS_

Branch: dpdk

76cef1af8bdaeaf67a5c4ca5df3f221df994dc46 --> testing pass

Test environment and result as below:

+--------------------------+----------------+------------------------------+
|       Environment        | dpdk_unit_test | cryptodev_sw_snow3g_autotest |
+==========================+================+==============================+
| CentOS Stream 9 (ARM)    | PASS           | SKIPPED                      |
+--------------------------+----------------+------------------------------+
| Debian 11 (Buster) (ARM) | PASS           | SKIPPED                      |
+--------------------------+----------------+------------------------------+
| Debian 12 (arm)          | PASS           | PASS                         |
+--------------------------+----------------+------------------------------+
| Fedora 38 (ARM)          | PASS           | SKIPPED                      |
+--------------------------+----------------+------------------------------+
| Fedora 37 (ARM)          | PASS           | SKIPPED                      |
+--------------------------+----------------+------------------------------+


CentOS Stream 9 (ARM)
	Kernel: Container Host Kernel
	Compiler: gcc 11.4.1

Debian 11 (Buster) (ARM)
	Kernel: Container Host Kernel
	Compiler: gcc 10.2.1

Debian 12 (arm)
	Kernel: Container Host Kernel
	Compiler: gcc 12.2.0

Fedora 38 (ARM)
	Kernel: Depends on container host
	Compiler: gcc 13.2.1

Fedora 37 (ARM)
	Kernel: Depends on container host
	Compiler: gcc 12.3.1

To view detailed results, visit:
https://lab.dpdk.org/results/dashboard/tarballs/29351/

UNH-IOL DPDK Community Lab

To manage your email subscriptions, visit: 
https://lab.dpdk.org/results/dashboard/preferences/subscriptions/


More information about the test-report mailing list