|SUCCESS| pw140818-140820 [PATCH] [v4,3/3] net/mlx5/hws: add support
    dpdklab at iol.unh.edu 
    dpdklab at iol.unh.edu
       
    Thu Jun  6 15:40:07 CEST 2024
    
    
  
Test-Label: iol-compile-amd64-testing
Test-Status: SUCCESS
http://dpdk.org/patch/140820
_Testing PASS_
Submitter: Maayan Kashani <mkashani at nvidia.com>
Date: Thursday, June 06 2024 10:31:03 
DPDK git baseline: Repo:dpdk
  Branch: master
  CommitID:2bf363ff7e924a1fb6054eee693fde66097273f7
140818-140820 --> testing pass
Test environment and result as below:
+---------------------+--------------------+-------------------+
|     Environment     | dpdk_meson_compile | dpdk_msvc_compile |
+=====================+====================+===================+
| FreeBSD 14.0        | PASS               | SKIPPED           |
+---------------------+--------------------+-------------------+
| FreeBSD 13.3        | PASS               | SKIPPED           |
+---------------------+--------------------+-------------------+
| Windows Server 2019 | PASS               | SKIPPED           |
+---------------------+--------------------+-------------------+
| Windows Server 2022 | SKIPPED            | PASS              |
+---------------------+--------------------+-------------------+
FreeBSD 14.0
	Kernel: 14.0
	Compiler: clang 16.0.6
FreeBSD 13.3
	Kernel: 13.3-RELEASE-p1
	Compiler: clang 17.0.6
Windows Server 2019
	Kernel: 10.0.17763
	Compiler: clang 14.0 and gcc 8.1.0 (MinGW)
Windows Server 2022
	Kernel: 10.0.20348.2031
	Compiler: clang 15.0.7, gcc 8.1.0 (MinGW), and MSVC VS 17.9
To view detailed results, visit:
https://lab.dpdk.org/results/dashboard/patchsets/30128/
UNH-IOL DPDK Community Lab
To manage your email subscriptions, visit: 
https://lab.dpdk.org/results/dashboard/preferences/subscriptions/
    
    
More information about the test-report
mailing list