|SUCCESS| pw140802-140806 [PATCH] [v3,5/5] crypto/openssl: only set

dpdklab at iol.unh.edu dpdklab at iol.unh.edu
Thu Jun 6 16:13:57 CEST 2024


Test-Label: iol-compile-amd64-testing
Test-Status: SUCCESS
http://dpdk.org/patch/140806

_Testing PASS_

Submitter: Jack Bond-Preston <jack.bond-preston at foss.arm.com>
Date: Thursday, June 06 2024 10:20:43 
DPDK git baseline: Repo:dpdk
  Branch: master
  CommitID:367b8db312517edb9f5340d280e77b1437d84dd3

140802-140806 --> testing pass

Test environment and result as below:

+---------------------+--------------------+-------------------+----------------------+
|     Environment     | dpdk_meson_compile | dpdk_msvc_compile | dpdk_mingw64_compile |
+=====================+====================+===================+======================+
| FreeBSD 13.3        | PASS               | SKIPPED           | SKIPPED              |
+---------------------+--------------------+-------------------+----------------------+
| FreeBSD 14.0        | PASS               | SKIPPED           | SKIPPED              |
+---------------------+--------------------+-------------------+----------------------+
| Windows Server 2019 | PASS               | SKIPPED           | PASS                 |
+---------------------+--------------------+-------------------+----------------------+
| Windows Server 2022 | PASS               | PASS              | PASS                 |
+---------------------+--------------------+-------------------+----------------------+


FreeBSD 13.3
	Kernel: 13.3-RELEASE-p1
	Compiler: clang 17.0.6

FreeBSD 14.0
	Kernel: 14.0
	Compiler: clang 16.0.6

Windows Server 2019
	Kernel: 10.0.17763
	Compiler: clang 14.0 and gcc 8.1.0 (MinGW)

Windows Server 2022
	Kernel: 10.0.20348.2031
	Compiler: clang 15.0.7, gcc 8.1.0 (MinGW), and MSVC VS 17.9

To view detailed results, visit:
https://lab.dpdk.org/results/dashboard/patchsets/30126/

UNH-IOL DPDK Community Lab

To manage your email subscriptions, visit: 
https://lab.dpdk.org/results/dashboard/preferences/subscriptions/


More information about the test-report mailing list