|SUCCESS| pw140838 [PATCH] [v5] eventdev/crypto: restore opaque fiel

dpdklab at iol.unh.edu dpdklab at iol.unh.edu
Fri Jun 7 01:43:45 CEST 2024


Test-Label: iol-unit-arm64-testing
Test-Status: SUCCESS
http://dpdk.org/patch/140838

_Testing PASS_

Submitter: Ganapati Kundapura <ganapati.kundapura at intel.com>
Date: Thursday, June 06 2024 13:48:00 
DPDK git baseline: Repo:dpdk
  Branch: master
  CommitID:229d27a82792fab339d78b9bec26a0f395674d43

140838 --> testing pass

Test environment and result as below:

+-----------------------------+----------------+---------------------------+------------------------------+
|         Environment         | dpdk_unit_test | cryptodev_sw_zuc_autotest | cryptodev_sw_snow3g_autotest |
+=============================+================+===========================+==============================+
| Debian 11 (Buster) (ARM)    | PASS           | SKIPPED                   | SKIPPED                      |
+-----------------------------+----------------+---------------------------+------------------------------+
| Debian 12 (arm)             | PASS           | PASS                      | PASS                         |
+-----------------------------+----------------+---------------------------+------------------------------+
| CentOS Stream 9 (ARM)       | PASS           | SKIPPED                   | SKIPPED                      |
+-----------------------------+----------------+---------------------------+------------------------------+
| Fedora 38 (ARM)             | PASS           | SKIPPED                   | SKIPPED                      |
+-----------------------------+----------------+---------------------------+------------------------------+
| Ubuntu 24.04 (ARM)          | PASS           | SKIPPED                   | SKIPPED                      |
+-----------------------------+----------------+---------------------------+------------------------------+
| Fedora 39 (ARM)             | PASS           | SKIPPED                   | SKIPPED                      |
+-----------------------------+----------------+---------------------------+------------------------------+
| 32-bit Ubuntu 20.04.4 (ARM) | PASS           | SKIPPED                   | SKIPPED                      |
+-----------------------------+----------------+---------------------------+------------------------------+
| Ubuntu 20.04 (ARM)          | PASS           | SKIPPED                   | SKIPPED                      |
+-----------------------------+----------------+---------------------------+------------------------------+
| Ubuntu 22.04 (ARM)          | PASS           | SKIPPED                   | SKIPPED                      |
+-----------------------------+----------------+---------------------------+------------------------------+
| Fedora 37 (ARM)             | PASS           | SKIPPED                   | SKIPPED                      |
+-----------------------------+----------------+---------------------------+------------------------------+


Debian 11 (Buster) (ARM)
	Kernel: Container Host Kernel
	Compiler: gcc 10.2.1

Debian 12 (arm)
	Kernel: Container Host Kernel
	Compiler: gcc 12.2.0

CentOS Stream 9 (ARM)
	Kernel: Container Host Kernel
	Compiler: gcc 11.4.1

Fedora 38 (ARM)
	Kernel: Depends on container host
	Compiler: gcc 13.2.1

Ubuntu 24.04 (ARM)
	Kernel: 5.4.0-167-generic
	Compiler: gcc 13.2.0

Fedora 39 (ARM)
	Kernel: Depends on container host
	Compiler: gcc 13.2.1

32-bit Ubuntu 20.04.4 (ARM)
	Kernel: 5.4.0-155-generic aarch64
	Compiler: gcc 9.4

Ubuntu 20.04 (ARM)
	Kernel: Container Host Kernel
	Compiler: gcc 9.4.0

Ubuntu 22.04 (ARM)
	Kernel: Container Host Kernel
	Compiler: gcc 11.4.0

Fedora 37 (ARM)
	Kernel: Depends on container host
	Compiler: gcc 12.3.1

To view detailed results, visit:
https://lab.dpdk.org/results/dashboard/patchsets/30136/

UNH-IOL DPDK Community Lab

To manage your email subscriptions, visit: 
https://lab.dpdk.org/results/dashboard/preferences/subscriptions/


More information about the test-report mailing list