|SUCCESS| pw140844-140846 [PATCH] [3/3] net/bnxt: fix backing store
dpdklab at iol.unh.edu
dpdklab at iol.unh.edu
Fri Jun 7 11:21:56 CEST 2024
Test-Label: iol-unit-arm64-testing
Test-Status: SUCCESS
http://dpdk.org/patch/140846
_Testing PASS_
Submitter: Ajit Khaparde <ajit.khaparde at broadcom.com>
Date: Thursday, June 06 2024 23:31:16
DPDK git baseline: Repo:dpdk
Branch: master
CommitID:76cef1af8bdaeaf67a5c4ca5df3f221df994dc46
140844-140846 --> testing pass
Test environment and result as below:
+--------------------------+------------------------------+----------------+
| Environment | cryptodev_sw_snow3g_autotest | dpdk_unit_test |
+==========================+==============================+================+
| Debian 12 (arm) | PASS | PASS |
+--------------------------+------------------------------+----------------+
| CentOS Stream 9 (ARM) | SKIPPED | PASS |
+--------------------------+------------------------------+----------------+
| Debian 11 (Buster) (ARM) | SKIPPED | PASS |
+--------------------------+------------------------------+----------------+
Debian 12 (arm)
Kernel: Container Host Kernel
Compiler: gcc 12.2.0
CentOS Stream 9 (ARM)
Kernel: Container Host Kernel
Compiler: gcc 11.4.1
Debian 11 (Buster) (ARM)
Kernel: Container Host Kernel
Compiler: gcc 10.2.1
To view detailed results, visit:
https://lab.dpdk.org/results/dashboard/patchsets/30138/
UNH-IOL DPDK Community Lab
To manage your email subscriptions, visit:
https://lab.dpdk.org/results/dashboard/preferences/subscriptions/
More information about the test-report
mailing list