|SUCCESS| pw140849-140850 [PATCH] [v5,2/2] dma/cnxk: remove completi
    dpdklab at iol.unh.edu 
    dpdklab at iol.unh.edu
       
    Fri Jun  7 13:58:52 CEST 2024
    
    
  
Test-Label: iol-unit-arm64-testing
Test-Status: SUCCESS
http://dpdk.org/patch/140850
_Testing PASS_
Submitter: Pavan Nikhilesh Bhagavatula <pbhagavatula at marvell.com>
Date: Friday, June 07 2024 10:36:26 
DPDK git baseline: Repo:dpdk
  Branch: master
  CommitID:76cef1af8bdaeaf67a5c4ca5df3f221df994dc46
140849-140850 --> testing pass
Test environment and result as below:
+-----------------------------+---------------------------+----------------+------------------------------+--------------+
|         Environment         | cryptodev_sw_zuc_autotest | dpdk_unit_test | cryptodev_sw_snow3g_autotest | lpm_autotest |
+=============================+===========================+================+==============================+==============+
| Debian 12 (arm)             | PASS                      | PASS           | PASS                         | SKIPPED      |
+-----------------------------+---------------------------+----------------+------------------------------+--------------+
| Debian 11 (Buster) (ARM)    | SKIPPED                   | PASS           | SKIPPED                      | SKIPPED      |
+-----------------------------+---------------------------+----------------+------------------------------+--------------+
| Fedora 37 (ARM)             | SKIPPED                   | PASS           | SKIPPED                      | SKIPPED      |
+-----------------------------+---------------------------+----------------+------------------------------+--------------+
| CentOS Stream 9 (ARM)       | SKIPPED                   | PASS           | SKIPPED                      | SKIPPED      |
+-----------------------------+---------------------------+----------------+------------------------------+--------------+
| Fedora 38 (ARM)             | SKIPPED                   | PASS           | SKIPPED                      | SKIPPED      |
+-----------------------------+---------------------------+----------------+------------------------------+--------------+
| 32-bit Ubuntu 20.04.4 (ARM) | SKIPPED                   | PASS           | SKIPPED                      | SKIPPED      |
+-----------------------------+---------------------------+----------------+------------------------------+--------------+
| Fedora 39 (ARM)             | SKIPPED                   | PASS           | SKIPPED                      | SKIPPED      |
+-----------------------------+---------------------------+----------------+------------------------------+--------------+
| Ubuntu 20.04 (ARM)          | SKIPPED                   | PASS           | SKIPPED                      | SKIPPED      |
+-----------------------------+---------------------------+----------------+------------------------------+--------------+
| Ubuntu 22.04 (ARM)          | SKIPPED                   | PASS           | SKIPPED                      | SKIPPED      |
+-----------------------------+---------------------------+----------------+------------------------------+--------------+
| Ubuntu 24.04 (ARM)          | SKIPPED                   | PASS           | SKIPPED                      | SKIPPED      |
+-----------------------------+---------------------------+----------------+------------------------------+--------------+
| Fedora 38 (ARM Clang)       | SKIPPED                   | PASS           | SKIPPED                      | SKIPPED      |
+-----------------------------+---------------------------+----------------+------------------------------+--------------+
| Ubuntu 20.04 ARM SVE        | SKIPPED                   | SKIPPED        | SKIPPED                      | PASS         |
+-----------------------------+---------------------------+----------------+------------------------------+--------------+
Debian 12 (arm)
	Kernel: Container Host Kernel
	Compiler: gcc 12.2.0
Debian 11 (Buster) (ARM)
	Kernel: Container Host Kernel
	Compiler: gcc 10.2.1
Fedora 37 (ARM)
	Kernel: Depends on container host
	Compiler: gcc 12.3.1
CentOS Stream 9 (ARM)
	Kernel: Container Host Kernel
	Compiler: gcc 11.4.1
Fedora 38 (ARM)
	Kernel: Depends on container host
	Compiler: gcc 13.2.1
32-bit Ubuntu 20.04.4 (ARM)
	Kernel: 5.4.0-155-generic aarch64
	Compiler: gcc 9.4
Fedora 39 (ARM)
	Kernel: Depends on container host
	Compiler: gcc 13.2.1
Ubuntu 20.04 (ARM)
	Kernel: Container Host Kernel
	Compiler: gcc 9.4.0
Ubuntu 22.04 (ARM)
	Kernel: Container Host Kernel
	Compiler: gcc 11.4.0
Ubuntu 24.04 (ARM)
	Kernel: 5.4.0-167-generic
	Compiler: gcc 13.2.0
Fedora 38 (ARM Clang)
	Kernel: Depends on container host
	Compiler: clang 16.0.6
Ubuntu 20.04 ARM SVE
	Kernel: 5.4.0-167-generic
	Compiler: gcc (Ubuntu 10.5.0-1ubuntu1~20.04) 10.5.0
To view detailed results, visit:
https://lab.dpdk.org/results/dashboard/patchsets/30141/
UNH-IOL DPDK Community Lab
To manage your email subscriptions, visit: 
https://lab.dpdk.org/results/dashboard/preferences/subscriptions/
    
    
More information about the test-report
mailing list