|SUCCESS| pw140861-140867 [PATCH] [v3,9/9] crypto/ionic: add stats s
dpdklab at iol.unh.edu
dpdklab at iol.unh.edu
Fri Jun 7 19:56:29 CEST 2024
Test-Label: iol-compile-amd64-testing
Test-Status: SUCCESS
http://dpdk.org/patch/140867
_Testing PASS_
Submitter: Andrew Boyer <Andrew.Boyer at amd.com>
Date: Friday, June 07 2024 14:27:40
DPDK git baseline: Repo:dpdk
Branch: master
CommitID:367b8db312517edb9f5340d280e77b1437d84dd3
140861-140867 --> testing pass
Test environment and result as below:
+---------------------+--------------------+-------------------+----------------------+
| Environment | dpdk_meson_compile | dpdk_msvc_compile | dpdk_mingw64_compile |
+=====================+====================+===================+======================+
| FreeBSD 13.3 | PASS | SKIPPED | SKIPPED |
+---------------------+--------------------+-------------------+----------------------+
| Windows Server 2022 | PASS | PASS | PASS |
+---------------------+--------------------+-------------------+----------------------+
| FreeBSD 14.1 | PASS | SKIPPED | SKIPPED |
+---------------------+--------------------+-------------------+----------------------+
| Windows Server 2019 | PASS | SKIPPED | PASS |
+---------------------+--------------------+-------------------+----------------------+
FreeBSD 13.3
Kernel: 13.3-RELEASE-p1
Compiler: clang 17.0.6
Windows Server 2022
Kernel: 10.0.20348.2031
Compiler: clang 15.0.7, gcc 8.1.0 (MinGW), and MSVC VS 17.9
FreeBSD 14.1
Kernel: 14.1
Compiler: clang 18.1.5
Windows Server 2019
Kernel: 10.0.17763
Compiler: clang 14.0 and gcc 8.1.0 (MinGW)
To view detailed results, visit:
https://lab.dpdk.org/results/dashboard/patchsets/30145/
UNH-IOL DPDK Community Lab
To manage your email subscriptions, visit:
https://lab.dpdk.org/results/dashboard/preferences/subscriptions/
More information about the test-report
mailing list