|SUCCESS| pw140909 [PATCH] maintainers: update email address for PPC
    dpdklab at iol.unh.edu 
    dpdklab at iol.unh.edu
       
    Thu Jun 13 00:55:37 CEST 2024
    
    
  
Test-Label: iol-abi-testing
Test-Status: SUCCESS
http://dpdk.org/patch/140909
_Testing PASS_
Submitter: David Christensen <drc at linux.vnet.ibm.com>
Date: Wednesday, May 29 2024 17:34:19 
DPDK git baseline: Repo:dpdk
  Branch: master
  CommitID:76cef1af8bdaeaf67a5c4ca5df3f221df994dc46
140909 --> testing pass
Test environment and result as below:
+------------------+----------+
|   Environment    | abi_test |
+==================+==========+
| Fedora 37        | PASS     |
+------------------+----------+
| Ubuntu 22.04     | PASS     |
+------------------+----------+
| Fedora 39        | PASS     |
+------------------+----------+
| CentOS Stream 9  | PASS     |
+------------------+----------+
| Fedora 38        | PASS     |
+------------------+----------+
| Debian Bullseye  | PASS     |
+------------------+----------+
| CentOS Stream 8  | PASS     |
+------------------+----------+
| openSUSE Leap 15 | PASS     |
+------------------+----------+
| Debian 12        | PASS     |
+------------------+----------+
| Ubuntu 24.04     | PASS     |
+------------------+----------+
| RHEL8            | PASS     |
+------------------+----------+
Fedora 37
	Kernel: Depends on container host system
	Compiler: gcc 12.3.1
Ubuntu 22.04
	Kernel: 5.4.0-167-generic
	Compiler: gcc 11.4.0
Fedora 39
	Kernel: Depends on container host
	Compiler: gcc 13.2.1
CentOS Stream 9
	Kernel: 5.4.0-167-generic
	Compiler: gcc 11.4.1 20230605
Fedora 38
	Kernel: Depends on container host
	Compiler: clang 16.0.6
Debian Bullseye
	Kernel: 5.4.0-167-generic
	Compiler: gcc 10.2.1-6
CentOS Stream 8
	Kernel: 5.4.0-167-generic
	Compiler: gcc 8.5.0 20210514
openSUSE Leap 15
	Kernel: 5.4.0-167-generic
	Compiler: gcc 7.5.0
Debian 12
	Kernel: Container Host Kernel
	Compiler: gcc 12.2.0
Ubuntu 24.04
	Kernel: 5.4.0-167-generic
	Compiler: gcc 13.2.0
RHEL8
	Kernel: 5.4.0-167-generic
	Compiler: gcc 8.5.0 20210514 (Red Hat 8.5.0-20)
To view detailed results, visit:
https://lab.dpdk.org/results/dashboard/patchsets/30154/
UNH-IOL DPDK Community Lab
To manage your email subscriptions, visit: 
https://lab.dpdk.org/results/dashboard/preferences/subscriptions/
    
    
More information about the test-report
mailing list