|SUCCESS| pw140921-140926 [PATCH] [v15,6/6] test: add unit test for
dpdklab at iol.unh.edu
dpdklab at iol.unh.edu
Thu Jun 13 02:46:42 CEST 2024
Test-Label: iol-unit-arm64-testing
Test-Status: SUCCESS
http://dpdk.org/patch/140926
_Testing PASS_
Submitter: Paul Szczepanek <paul.szczepanek at arm.com>
Date: Tuesday, June 11 2024 12:59:47
DPDK git baseline: Repo:dpdk
Branch: master
CommitID:76cef1af8bdaeaf67a5c4ca5df3f221df994dc46
140921-140926 --> testing pass
Test environment and result as below:
+-----------------------------+---------------------------+----------------+--------------+------------------------------+
| Environment | cryptodev_sw_zuc_autotest | dpdk_unit_test | lpm_autotest | cryptodev_sw_snow3g_autotest |
+=============================+===========================+================+==============+==============================+
| Debian 12 (arm) | PASS | PASS | SKIPPED | PASS |
+-----------------------------+---------------------------+----------------+--------------+------------------------------+
| 32-bit Ubuntu 20.04.4 (ARM) | SKIPPED | PASS | SKIPPED | SKIPPED |
+-----------------------------+---------------------------+----------------+--------------+------------------------------+
| CentOS Stream 9 (ARM) | SKIPPED | PASS | SKIPPED | SKIPPED |
+-----------------------------+---------------------------+----------------+--------------+------------------------------+
| Debian 11 (Buster) (ARM) | SKIPPED | PASS | SKIPPED | SKIPPED |
+-----------------------------+---------------------------+----------------+--------------+------------------------------+
| Fedora 37 (ARM) | SKIPPED | PASS | SKIPPED | SKIPPED |
+-----------------------------+---------------------------+----------------+--------------+------------------------------+
| Fedora 38 (ARM) | SKIPPED | PASS | SKIPPED | SKIPPED |
+-----------------------------+---------------------------+----------------+--------------+------------------------------+
| Fedora 39 (ARM) | SKIPPED | PASS | SKIPPED | SKIPPED |
+-----------------------------+---------------------------+----------------+--------------+------------------------------+
| Fedora 38 (ARM Clang) | SKIPPED | PASS | SKIPPED | SKIPPED |
+-----------------------------+---------------------------+----------------+--------------+------------------------------+
| Ubuntu 20.04 (ARM) | SKIPPED | PASS | SKIPPED | SKIPPED |
+-----------------------------+---------------------------+----------------+--------------+------------------------------+
| Fedora 39 (ARM Clang) | SKIPPED | PASS | SKIPPED | SKIPPED |
+-----------------------------+---------------------------+----------------+--------------+------------------------------+
| Ubuntu 22.04 (ARM) | SKIPPED | PASS | SKIPPED | SKIPPED |
+-----------------------------+---------------------------+----------------+--------------+------------------------------+
| Ubuntu 24.04 (ARM) | SKIPPED | PASS | SKIPPED | SKIPPED |
+-----------------------------+---------------------------+----------------+--------------+------------------------------+
| Ubuntu 20.04 ARM SVE | SKIPPED | SKIPPED | PASS | SKIPPED |
+-----------------------------+---------------------------+----------------+--------------+------------------------------+
Debian 12 (arm)
Kernel: Container Host Kernel
Compiler: gcc 12.2.0
32-bit Ubuntu 20.04.4 (ARM)
Kernel: 5.4.0-155-generic aarch64
Compiler: gcc 9.4
CentOS Stream 9 (ARM)
Kernel: Container Host Kernel
Compiler: gcc 11.4.1
Debian 11 (Buster) (ARM)
Kernel: Container Host Kernel
Compiler: gcc 10.2.1
Fedora 37 (ARM)
Kernel: Depends on container host
Compiler: gcc 12.3.1
Fedora 38 (ARM)
Kernel: Depends on container host
Compiler: gcc 13.2.1
Fedora 39 (ARM)
Kernel: Depends on container host
Compiler: gcc 13.2.1
Fedora 38 (ARM Clang)
Kernel: Depends on container host
Compiler: clang 16.0.6
Ubuntu 20.04 (ARM)
Kernel: Container Host Kernel
Compiler: gcc 9.4.0
Fedora 39 (ARM Clang)
Kernel: Depends on container host
Compiler: clang 17.0.6
Ubuntu 22.04 (ARM)
Kernel: Container Host Kernel
Compiler: gcc 11.4.0
Ubuntu 24.04 (ARM)
Kernel: 5.4.0-167-generic
Compiler: gcc 13.2.0
Ubuntu 20.04 ARM SVE
Kernel: 5.4.0-167-generic
Compiler: gcc (Ubuntu 10.5.0-1ubuntu1~20.04) 10.5.0
To view detailed results, visit:
https://lab.dpdk.org/results/dashboard/patchsets/30164/
UNH-IOL DPDK Community Lab
To manage your email subscriptions, visit:
https://lab.dpdk.org/results/dashboard/preferences/subscriptions/
More information about the test-report
mailing list