|SUCCESS| pw140934-140955 [PATCH] [v3,22/22] doc: updated the docume

dpdklab at iol.unh.edu dpdklab at iol.unh.edu
Thu Jun 13 05:44:23 CEST 2024


Test-Label: iol-unit-arm64-testing
Test-Status: SUCCESS
http://dpdk.org/patch/140955

_Testing PASS_

Submitter: Soumyadeep Hore <soumyadeep.hore at intel.com>
Date: Wednesday, June 12 2024 03:52:57 
DPDK git baseline: Repo:dpdk
  Branch: master
  CommitID:0d761dfc89b71fa46193a545cce3fbe2613856a6

140934-140955 --> testing pass

Test environment and result as below:

+-----------------------------+---------------------------+------------------------------+----------------+--------------+
|         Environment         | cryptodev_sw_zuc_autotest | cryptodev_sw_snow3g_autotest | dpdk_unit_test | lpm_autotest |
+=============================+===========================+==============================+================+==============+
| Debian 12 (arm)             | PASS                      | PASS                         | PASS           | SKIPPED      |
+-----------------------------+---------------------------+------------------------------+----------------+--------------+
| Debian 11 (Buster) (ARM)    | SKIPPED                   | SKIPPED                      | PASS           | SKIPPED      |
+-----------------------------+---------------------------+------------------------------+----------------+--------------+
| CentOS Stream 9 (ARM)       | SKIPPED                   | SKIPPED                      | PASS           | SKIPPED      |
+-----------------------------+---------------------------+------------------------------+----------------+--------------+
| Fedora 39 (ARM)             | SKIPPED                   | SKIPPED                      | PASS           | SKIPPED      |
+-----------------------------+---------------------------+------------------------------+----------------+--------------+
| 32-bit Ubuntu 20.04.4 (ARM) | SKIPPED                   | SKIPPED                      | PASS           | SKIPPED      |
+-----------------------------+---------------------------+------------------------------+----------------+--------------+
| Fedora 37 (ARM)             | SKIPPED                   | SKIPPED                      | PASS           | SKIPPED      |
+-----------------------------+---------------------------+------------------------------+----------------+--------------+
| Fedora 38 (ARM)             | SKIPPED                   | SKIPPED                      | PASS           | SKIPPED      |
+-----------------------------+---------------------------+------------------------------+----------------+--------------+
| RHEL9 (ARM)                 | SKIPPED                   | SKIPPED                      | PASS           | SKIPPED      |
+-----------------------------+---------------------------+------------------------------+----------------+--------------+
| Ubuntu 24.04 (ARM)          | SKIPPED                   | SKIPPED                      | PASS           | SKIPPED      |
+-----------------------------+---------------------------+------------------------------+----------------+--------------+
| Ubuntu 20.04 (ARM)          | SKIPPED                   | SKIPPED                      | PASS           | SKIPPED      |
+-----------------------------+---------------------------+------------------------------+----------------+--------------+
| Ubuntu 22.04 (ARM)          | SKIPPED                   | SKIPPED                      | PASS           | SKIPPED      |
+-----------------------------+---------------------------+------------------------------+----------------+--------------+
| Fedora 38 (ARM Clang)       | SKIPPED                   | SKIPPED                      | PASS           | SKIPPED      |
+-----------------------------+---------------------------+------------------------------+----------------+--------------+
| Fedora 39 (ARM Clang)       | SKIPPED                   | SKIPPED                      | PASS           | SKIPPED      |
+-----------------------------+---------------------------+------------------------------+----------------+--------------+
| Ubuntu 20.04 ARM SVE        | SKIPPED                   | SKIPPED                      | SKIPPED        | PASS         |
+-----------------------------+---------------------------+------------------------------+----------------+--------------+


Debian 12 (arm)
	Kernel: Container Host Kernel
	Compiler: gcc 12.2.0

Debian 11 (Buster) (ARM)
	Kernel: Container Host Kernel
	Compiler: gcc 10.2.1

CentOS Stream 9 (ARM)
	Kernel: Container Host Kernel
	Compiler: gcc 11.4.1

Fedora 39 (ARM)
	Kernel: Depends on container host
	Compiler: gcc 13.2.1

32-bit Ubuntu 20.04.4 (ARM)
	Kernel: 5.4.0-155-generic aarch64
	Compiler: gcc 9.4

Fedora 37 (ARM)
	Kernel: Depends on container host
	Compiler: gcc 12.3.1

Fedora 38 (ARM)
	Kernel: Depends on container host
	Compiler: gcc 13.2.1

RHEL9 (ARM)
	Kernel: Depends on container host
	Compiler: gcc 11.4.1

Ubuntu 24.04 (ARM)
	Kernel: 5.4.0-167-generic
	Compiler: gcc 13.2.0

Ubuntu 20.04 (ARM)
	Kernel: Container Host Kernel
	Compiler: gcc 9.4.0

Ubuntu 22.04 (ARM)
	Kernel: Container Host Kernel
	Compiler: gcc 11.4.0

Fedora 38 (ARM Clang)
	Kernel: Depends on container host
	Compiler: clang 16.0.6

Fedora 39 (ARM Clang)
	Kernel: Depends on container host
	Compiler: clang 17.0.6

Ubuntu 20.04 ARM SVE
	Kernel: 5.4.0-167-generic
	Compiler: gcc (Ubuntu 10.5.0-1ubuntu1~20.04) 10.5.0

To view detailed results, visit:
https://lab.dpdk.org/results/dashboard/patchsets/30167/

UNH-IOL DPDK Community Lab

To manage your email subscriptions, visit: 
https://lab.dpdk.org/results/dashboard/preferences/subscriptions/


More information about the test-report mailing list