|SUCCESS| pw140960 [PATCH] [v2] r8125: add r8125 ethernet poll mode
dpdklab at iol.unh.edu
dpdklab at iol.unh.edu
Thu Jun 13 06:39:03 CEST 2024
Test-Label: iol-unit-amd64-testing
Test-Status: SUCCESS
http://dpdk.org/patch/140960
_Testing PASS_
Submitter: Howard Wang <howard_wang at realsil.com.cn>
Date: Wednesday, June 12 2024 09:51:45
DPDK git baseline: Repo:dpdk
Branch: master
CommitID:b1a6f8deeee2d30b6e25d9a5c8279dfc9401d9aa
140960 --> testing pass
Test environment and result as below:
+---------------------+----------------+
| Environment | dpdk_unit_test |
+=====================+================+
| Windows Server 2019 | PASS |
+---------------------+----------------+
| CentOS Stream 8 | PASS |
+---------------------+----------------+
| CentOS Stream 9 | PASS |
+---------------------+----------------+
| Debian 12 | PASS |
+---------------------+----------------+
| Ubuntu 20.04 | PASS |
+---------------------+----------------+
| Debian Bullseye | PASS |
+---------------------+----------------+
| Fedora 38 | PASS |
+---------------------+----------------+
| Fedora 37 | PASS |
+---------------------+----------------+
| RHEL8 | PASS |
+---------------------+----------------+
| Fedora 39 | PASS |
+---------------------+----------------+
| openSUSE Leap 15 | PASS |
+---------------------+----------------+
| Windows Server 2022 | PASS |
+---------------------+----------------+
| Ubuntu 24.04 | PASS |
+---------------------+----------------+
| RHEL9 | PASS |
+---------------------+----------------+
| Ubuntu 22.04 | PASS |
+---------------------+----------------+
Windows Server 2019
Kernel: 10.0.17763
Compiler: clang 14.0 and gcc 8.1.0 (MinGW)
CentOS Stream 8
Kernel: 5.4.0-167-generic
Compiler: gcc 8.5.0 20210514
CentOS Stream 9
Kernel: 5.4.0-167-generic
Compiler: gcc 11.4.1 20230605
Debian 12
Kernel: Container Host Kernel
Compiler: gcc 12.2.0
Ubuntu 20.04
Kernel: 5.4.0-167-generic
Compiler: gcc 9.4.0-1ubuntu1~20.04.1
Debian Bullseye
Kernel: 5.4.0-167-generic
Compiler: gcc 10.2.1-6
Fedora 38
Kernel: Depends on container host
Compiler: clang 16.0.6
Fedora 37
Kernel: Depends on container host system
Compiler: gcc 12.3.1
RHEL8
Kernel: 5.4.0-167-generic
Compiler: gcc 8.5.0 20210514 (Red Hat 8.5.0-20)
Fedora 39
Kernel: Depends on container host
Compiler: gcc 13.2.1
openSUSE Leap 15
Kernel: 5.4.0-167-generic
Compiler: gcc 7.5.0
Windows Server 2022
Kernel: 10.0.20348.2031
Compiler: clang 15.0.7, gcc 8.1.0 (MinGW), and MSVC VS 17.9
Ubuntu 24.04
Kernel: 5.4.0-167-generic
Compiler: gcc 13.2.0
RHEL9
Kernel: Depends on container host
Compiler: gcc 11.4.1
Ubuntu 22.04
Kernel: 5.4.0-167-generic
Compiler: gcc 11.4.0
To view detailed results, visit:
https://lab.dpdk.org/results/dashboard/patchsets/30172/
UNH-IOL DPDK Community Lab
To manage your email subscriptions, visit:
https://lab.dpdk.org/results/dashboard/preferences/subscriptions/
More information about the test-report
mailing list