|SUCCESS| pw141109 [PATCH] [v2] ethdev: support duplicating only ite

dpdklab at iol.unh.edu dpdklab at iol.unh.edu
Thu Jun 13 07:24:24 CEST 2024


Test-Label: iol-compile-amd64-testing
Test-Status: SUCCESS
http://dpdk.org/patch/141109

_Testing PASS_

Submitter: Dariusz Sosnowski <dsosnowski at nvidia.com>
Date: Wednesday, June 12 2024 16:18:46 
DPDK git baseline: Repo:dpdk
  Branch: master
  CommitID:491f416ae7a87dc0526f3472c722ac48f2163521

141109 --> testing pass

Test environment and result as below:

+---------------------+--------------------+----------------------+------------------+-------------------+-------------------+
|     Environment     | dpdk_meson_compile | dpdk_mingw64_compile | dpdk_compile_ovs | dpdk_compile_spdk | dpdk_msvc_compile |
+=====================+====================+======================+==================+===================+===================+
| Windows Server 2022 | PASS               | PASS                 | SKIPPED          | SKIPPED           | PASS              |
+---------------------+--------------------+----------------------+------------------+-------------------+-------------------+
| Windows Server 2019 | PASS               | PASS                 | SKIPPED          | SKIPPED           | SKIPPED           |
+---------------------+--------------------+----------------------+------------------+-------------------+-------------------+
| FreeBSD 13.3        | PASS               | SKIPPED              | SKIPPED          | SKIPPED           | SKIPPED           |
+---------------------+--------------------+----------------------+------------------+-------------------+-------------------+
| Fedora 39           | PASS               | SKIPPED              | PASS             | PASS              | SKIPPED           |
+---------------------+--------------------+----------------------+------------------+-------------------+-------------------+
| CentOS Stream 8     | PASS               | SKIPPED              | PASS             | PASS              | SKIPPED           |
+---------------------+--------------------+----------------------+------------------+-------------------+-------------------+
| Debian Bullseye     | PASS               | SKIPPED              | PASS             | PASS              | SKIPPED           |
+---------------------+--------------------+----------------------+------------------+-------------------+-------------------+
| Debian 12           | PASS               | SKIPPED              | PASS             | SKIPPED           | SKIPPED           |
+---------------------+--------------------+----------------------+------------------+-------------------+-------------------+
| Fedora 38           | PASS               | SKIPPED              | PASS             | PASS              | SKIPPED           |
+---------------------+--------------------+----------------------+------------------+-------------------+-------------------+
| CentOS Stream 9     | PASS               | SKIPPED              | PASS             | PASS              | SKIPPED           |
+---------------------+--------------------+----------------------+------------------+-------------------+-------------------+
| Ubuntu 22.04        | PASS               | SKIPPED              | PASS             | PASS              | SKIPPED           |
+---------------------+--------------------+----------------------+------------------+-------------------+-------------------+
| openSUSE Leap 15    | PASS               | SKIPPED              | PASS             | SKIPPED           | SKIPPED           |
+---------------------+--------------------+----------------------+------------------+-------------------+-------------------+
| RHEL9               | PASS               | SKIPPED              | PASS             | SKIPPED           | SKIPPED           |
+---------------------+--------------------+----------------------+------------------+-------------------+-------------------+
| RHEL8               | PASS               | SKIPPED              | PASS             | SKIPPED           | SKIPPED           |
+---------------------+--------------------+----------------------+------------------+-------------------+-------------------+
| Fedora 37           | PASS               | SKIPPED              | PASS             | PASS              | SKIPPED           |
+---------------------+--------------------+----------------------+------------------+-------------------+-------------------+
| Ubuntu 20.04        | PASS               | SKIPPED              | PASS             | SKIPPED           | SKIPPED           |
+---------------------+--------------------+----------------------+------------------+-------------------+-------------------+
| Ubuntu 24.04        | PASS               | SKIPPED              | PASS             | PASS              | SKIPPED           |
+---------------------+--------------------+----------------------+------------------+-------------------+-------------------+
| Alpine              | PASS               | SKIPPED              | PASS             | SKIPPED           | SKIPPED           |
+---------------------+--------------------+----------------------+------------------+-------------------+-------------------+
| FreeBSD 14.1        | PASS               | SKIPPED              | SKIPPED          | SKIPPED           | SKIPPED           |
+---------------------+--------------------+----------------------+------------------+-------------------+-------------------+


Windows Server 2022
	Kernel: 10.0.20348.2031
	Compiler: clang 15.0.7, gcc 8.1.0 (MinGW), and MSVC VS 17.9

Windows Server 2019
	Kernel: 10.0.17763
	Compiler: clang 14.0 and gcc 8.1.0 (MinGW)

FreeBSD 13.3
	Kernel: 13.3-RELEASE-p1
	Compiler: clang 17.0.6

Fedora 39
	Kernel: Depends on container host
	Compiler: gcc 13.2.1

CentOS Stream 8
	Kernel: 5.4.0-167-generic
	Compiler: gcc 8.5.0 20210514

Debian Bullseye
	Kernel: 5.4.0-167-generic
	Compiler: gcc 10.2.1-6

Debian 12
	Kernel: Container Host Kernel
	Compiler: gcc 12.2.0

Fedora 38
	Kernel: Depends on container host
	Compiler: gcc 13.2.1

CentOS Stream 9
	Kernel: 5.4.0-167-generic
	Compiler: gcc 11.4.1 20230605

Ubuntu 22.04
	Kernel: 5.4.0-167-generic
	Compiler: gcc 11.4.0

openSUSE Leap 15
	Kernel: 5.4.0-167-generic
	Compiler: gcc 7.5.0

RHEL9
	Kernel: Depends on container host
	Compiler: gcc 11.4.1

RHEL8
	Kernel: 5.4.0-167-generic
	Compiler: gcc 8.5.0 20210514 (Red Hat 8.5.0-20)

Fedora 37
	Kernel: Depends on container host system
	Compiler: gcc 12.3.1

Ubuntu 20.04
	Kernel: 5.4.0-167-generic
	Compiler: gcc 9.4.0-1ubuntu1~20.04.1

Ubuntu 24.04
	Kernel: 5.4.0-167-generic
	Compiler: gcc 13.2.0

Alpine
	Kernel: 5.4.0-167-generic
	Compiler: gcc (Alpine 13.2.1_git20231014) 13.2.1 20231014

FreeBSD 14.1
	Kernel: 14.1
	Compiler: clang 18.1.5

To view detailed results, visit:
https://lab.dpdk.org/results/dashboard/patchsets/30174/

UNH-IOL DPDK Community Lab

To manage your email subscriptions, visit: 
https://lab.dpdk.org/results/dashboard/preferences/subscriptions/


More information about the test-report mailing list