|SUCCESS| [GIT MASTER] b303beb6a9b12df49124ee0701027ca72be7aee1
    dpdklab at iol.unh.edu 
    dpdklab at iol.unh.edu
       
    Thu Jun 13 12:16:08 CEST 2024
    
    
  
_Testing PASS_
Branch: dpdk-next-virtio
b303beb6a9b12df49124ee0701027ca72be7aee1 --> testing pass
Test environment and result as below:
+------------------+----------------+
|   Environment    | dpdk_unit_test |
+==================+================+
| CentOS Stream 8  | PASS           |
+------------------+----------------+
| Fedora 37        | PASS           |
+------------------+----------------+
| Debian Bullseye  | PASS           |
+------------------+----------------+
| CentOS Stream 9  | PASS           |
+------------------+----------------+
| Debian 12        | PASS           |
+------------------+----------------+
| Fedora 38        | PASS           |
+------------------+----------------+
| Fedora 39        | PASS           |
+------------------+----------------+
| openSUSE Leap 15 | PASS           |
+------------------+----------------+
| Ubuntu 20.04     | PASS           |
+------------------+----------------+
| Ubuntu 22.04     | PASS           |
+------------------+----------------+
| RHEL9            | PASS           |
+------------------+----------------+
| RHEL8            | PASS           |
+------------------+----------------+
CentOS Stream 8
	Kernel: 5.4.0-167-generic
	Compiler: gcc 8.5.0 20210514
Fedora 37
	Kernel: Depends on container host system
	Compiler: gcc 12.3.1
Debian Bullseye
	Kernel: 5.4.0-167-generic
	Compiler: gcc 10.2.1-6
CentOS Stream 9
	Kernel: 5.4.0-167-generic
	Compiler: gcc 11.4.1 20230605
Debian 12
	Kernel: Container Host Kernel
	Compiler: gcc 12.2.0
Fedora 38
	Kernel: Depends on container host
	Compiler: gcc 13.2.1
Fedora 39
	Kernel: Depends on container host
	Compiler: gcc 13.2.1
openSUSE Leap 15
	Kernel: 5.4.0-167-generic
	Compiler: gcc 7.5.0
Ubuntu 20.04
	Kernel: 5.4.0-167-generic
	Compiler: gcc 9.4.0-1ubuntu1~20.04.1
Ubuntu 22.04
	Kernel: 5.4.0-167-generic
	Compiler: gcc 11.4.0
RHEL9
	Kernel: Depends on container host
	Compiler: gcc 11.4.1
RHEL8
	Kernel: 5.4.0-167-generic
	Compiler: gcc 8.5.0 20210514 (Red Hat 8.5.0-20)
To view detailed results, visit:
https://lab.dpdk.org/results/dashboard/tarballs/29422/
UNH-IOL DPDK Community Lab
To manage your email subscriptions, visit: 
https://lab.dpdk.org/results/dashboard/preferences/subscriptions/
    
    
More information about the test-report
mailing list