|SUCCESS| [GIT MASTER] 6484c847d4e48386904841d6b7062007f837dfb4
    dpdklab at iol.unh.edu 
    dpdklab at iol.unh.edu
       
    Fri Jun 14 04:38:12 CEST 2024
    
    
  
_Testing PASS_
Branch: dpdk
6484c847d4e48386904841d6b7062007f837dfb4 --> testing pass
Test environment and result as below:
+---------------------+--------------------+----------------------+-------------------+------------------+
|     Environment     | dpdk_meson_compile | dpdk_mingw64_compile | dpdk_msvc_compile | dpdk_compile_ovs |
+=====================+====================+======================+===================+==================+
| FreeBSD 13.3        | PASS               | SKIPPED              | SKIPPED           | SKIPPED          |
+---------------------+--------------------+----------------------+-------------------+------------------+
| FreeBSD 14.1        | PASS               | SKIPPED              | SKIPPED           | SKIPPED          |
+---------------------+--------------------+----------------------+-------------------+------------------+
| Windows Server 2019 | PASS               | PASS                 | SKIPPED           | SKIPPED          |
+---------------------+--------------------+----------------------+-------------------+------------------+
| Windows Server 2022 | PASS               | PASS                 | PASS              | SKIPPED          |
+---------------------+--------------------+----------------------+-------------------+------------------+
| Debian 12           | PASS               | SKIPPED              | SKIPPED           | PASS             |
+---------------------+--------------------+----------------------+-------------------+------------------+
FreeBSD 13.3
	Kernel: 13.3-RELEASE-p1
	Compiler: clang 17.0.6
FreeBSD 14.1
	Kernel: 14.1
	Compiler: clang 18.1.5
Windows Server 2019
	Kernel: 10.0.17763
	Compiler: clang 14.0 and gcc 8.1.0 (MinGW)
Windows Server 2022
	Kernel: 10.0.20348.2031
	Compiler: clang 15.0.7, gcc 8.1.0 (MinGW), and MSVC VS 17.9
Debian 12
	Kernel: Container Host Kernel
	Compiler: gcc 12.2.0
To view detailed results, visit:
https://lab.dpdk.org/results/dashboard/tarballs/29432/
UNH-IOL DPDK Community Lab
To manage your email subscriptions, visit: 
https://lab.dpdk.org/results/dashboard/preferences/subscriptions/
    
    
More information about the test-report
mailing list