|SUCCESS| [GIT MASTER] 6484c847d4e48386904841d6b7062007f837dfb4
dpdklab at iol.unh.edu
dpdklab at iol.unh.edu
Fri Jun 14 06:01:27 CEST 2024
_Testing PASS_
Branch: dpdk
6484c847d4e48386904841d6b7062007f837dfb4 --> testing pass
Test environment and result as below:
+-----------------------------+--------------+----------------+------------------------------+
| Environment | lpm_autotest | dpdk_unit_test | cryptodev_sw_snow3g_autotest |
+=============================+==============+================+==============================+
| Ubuntu 20.04 ARM SVE | PASS | SKIPPED | SKIPPED |
+-----------------------------+--------------+----------------+------------------------------+
| 32-bit Ubuntu 20.04.4 (ARM) | SKIPPED | PASS | SKIPPED |
+-----------------------------+--------------+----------------+------------------------------+
| Debian 11 (Buster) (ARM) | SKIPPED | PASS | SKIPPED |
+-----------------------------+--------------+----------------+------------------------------+
| Debian 12 (arm) | SKIPPED | PASS | PASS |
+-----------------------------+--------------+----------------+------------------------------+
| Fedora 38 (ARM) | SKIPPED | PASS | SKIPPED |
+-----------------------------+--------------+----------------+------------------------------+
| Fedora 38 (ARM Clang) | SKIPPED | PASS | SKIPPED |
+-----------------------------+--------------+----------------+------------------------------+
| Fedora 39 (ARM) | SKIPPED | PASS | SKIPPED |
+-----------------------------+--------------+----------------+------------------------------+
| Fedora 37 (ARM) | SKIPPED | PASS | SKIPPED |
+-----------------------------+--------------+----------------+------------------------------+
| RHEL9 (ARM) | SKIPPED | PASS | SKIPPED |
+-----------------------------+--------------+----------------+------------------------------+
Ubuntu 20.04 ARM SVE
Kernel: 5.4.0-167-generic
Compiler: gcc (Ubuntu 10.5.0-1ubuntu1~20.04) 10.5.0
32-bit Ubuntu 20.04.4 (ARM)
Kernel: 5.4.0-155-generic aarch64
Compiler: gcc 9.4
Debian 11 (Buster) (ARM)
Kernel: Container Host Kernel
Compiler: gcc 10.2.1
Debian 12 (arm)
Kernel: Container Host Kernel
Compiler: gcc 12.2.0
Fedora 38 (ARM)
Kernel: Depends on container host
Compiler: gcc 13.2.1
Fedora 38 (ARM Clang)
Kernel: Depends on container host
Compiler: clang 16.0.6
Fedora 39 (ARM)
Kernel: Depends on container host
Compiler: gcc 13.2.1
Fedora 37 (ARM)
Kernel: Depends on container host
Compiler: gcc 12.3.1
RHEL9 (ARM)
Kernel: Depends on container host
Compiler: gcc 11.4.1
To view detailed results, visit:
https://lab.dpdk.org/results/dashboard/tarballs/29432/
UNH-IOL DPDK Community Lab
To manage your email subscriptions, visit:
https://lab.dpdk.org/results/dashboard/preferences/subscriptions/
More information about the test-report
mailing list