|SUCCESS| [GIT MASTER] fbba6db3640f9f623c29c452e1a6b057073e81d2

dpdklab at iol.unh.edu dpdklab at iol.unh.edu
Fri Jun 14 09:30:10 CEST 2024


_Testing PASS_

Branch: dpdk-next-net

fbba6db3640f9f623c29c452e1a6b057073e81d2 --> testing pass

Test environment and result as below:

+-----------------------------+------------------------------+---------------------------+----------------+
|         Environment         | cryptodev_sw_snow3g_autotest | cryptodev_sw_zuc_autotest | dpdk_unit_test |
+=============================+==============================+===========================+================+
| Debian 12 (arm)             | PASS                         | PASS                      | PASS           |
+-----------------------------+------------------------------+---------------------------+----------------+
| Debian 11 (Buster) (ARM)    | SKIPPED                      | SKIPPED                   | PASS           |
+-----------------------------+------------------------------+---------------------------+----------------+
| CentOS Stream 9 (ARM)       | SKIPPED                      | SKIPPED                   | PASS           |
+-----------------------------+------------------------------+---------------------------+----------------+
| Fedora 37 (ARM)             | SKIPPED                      | SKIPPED                   | PASS           |
+-----------------------------+------------------------------+---------------------------+----------------+
| Fedora 38 (ARM)             | SKIPPED                      | SKIPPED                   | PASS           |
+-----------------------------+------------------------------+---------------------------+----------------+
| RHEL9 (ARM)                 | SKIPPED                      | SKIPPED                   | PASS           |
+-----------------------------+------------------------------+---------------------------+----------------+
| 32-bit Ubuntu 20.04.4 (ARM) | SKIPPED                      | SKIPPED                   | PASS           |
+-----------------------------+------------------------------+---------------------------+----------------+
| Fedora 39 (ARM)             | SKIPPED                      | SKIPPED                   | PASS           |
+-----------------------------+------------------------------+---------------------------+----------------+
| Ubuntu 22.04 (ARM)          | SKIPPED                      | SKIPPED                   | PASS           |
+-----------------------------+------------------------------+---------------------------+----------------+


Debian 12 (arm)
	Kernel: Container Host Kernel
	Compiler: gcc 12.2.0

Debian 11 (Buster) (ARM)
	Kernel: Container Host Kernel
	Compiler: gcc 10.2.1

CentOS Stream 9 (ARM)
	Kernel: Container Host Kernel
	Compiler: gcc 11.4.1

Fedora 37 (ARM)
	Kernel: Depends on container host
	Compiler: gcc 12.3.1

Fedora 38 (ARM)
	Kernel: Depends on container host
	Compiler: gcc 13.2.1

RHEL9 (ARM)
	Kernel: Depends on container host
	Compiler: gcc 11.4.1

32-bit Ubuntu 20.04.4 (ARM)
	Kernel: 5.4.0-155-generic aarch64
	Compiler: gcc 9.4

Fedora 39 (ARM)
	Kernel: Depends on container host
	Compiler: gcc 13.2.1

Ubuntu 22.04 (ARM)
	Kernel: Container Host Kernel
	Compiler: gcc 11.4.0

To view detailed results, visit:
https://lab.dpdk.org/results/dashboard/tarballs/29436/

UNH-IOL DPDK Community Lab

To manage your email subscriptions, visit: 
https://lab.dpdk.org/results/dashboard/preferences/subscriptions/


More information about the test-report mailing list