|SUCCESS| pw141138-141139 [PATCH] [v2,2/2] crypto/mlx5: add out of p

dpdklab at iol.unh.edu dpdklab at iol.unh.edu
Fri Jun 14 12:37:23 CEST 2024


Test-Label: iol-unit-arm64-testing
Test-Status: SUCCESS
http://dpdk.org/patch/141139

_Testing PASS_

Submitter: Suanming Mou <suanmingm at nvidia.com>
Date: Friday, June 14 2024 00:30:31 
DPDK git baseline: Repo:dpdk
  Branch: master
  CommitID:6909b48776badc05542a410ebd34bcfec4c248bf

141138-141139 --> testing pass

Test environment and result as below:

+-----------------------------+----------------+------------------------------+
|         Environment         | dpdk_unit_test | cryptodev_sw_snow3g_autotest |
+=============================+================+==============================+
| Debian 11 (Buster) (ARM)    | PASS           | SKIPPED                      |
+-----------------------------+----------------+------------------------------+
| Debian 12 (arm)             | PASS           | PASS                         |
+-----------------------------+----------------+------------------------------+
| CentOS Stream 9 (ARM)       | PASS           | SKIPPED                      |
+-----------------------------+----------------+------------------------------+
| Fedora 38 (ARM)             | PASS           | SKIPPED                      |
+-----------------------------+----------------+------------------------------+
| Fedora 38 (ARM Clang)       | PASS           | SKIPPED                      |
+-----------------------------+----------------+------------------------------+
| RHEL9 (ARM)                 | PASS           | SKIPPED                      |
+-----------------------------+----------------+------------------------------+
| Fedora 39 (ARM Clang)       | PASS           | SKIPPED                      |
+-----------------------------+----------------+------------------------------+
| 32-bit Ubuntu 20.04.4 (ARM) | PASS           | SKIPPED                      |
+-----------------------------+----------------+------------------------------+
| Ubuntu 20.04 (ARM)          | PASS           | SKIPPED                      |
+-----------------------------+----------------+------------------------------+
| Fedora 37 (ARM)             | PASS           | SKIPPED                      |
+-----------------------------+----------------+------------------------------+
| Ubuntu 22.04 (ARM)          | PASS           | SKIPPED                      |
+-----------------------------+----------------+------------------------------+
| Ubuntu 24.04 (ARM)          | PASS           | SKIPPED                      |
+-----------------------------+----------------+------------------------------+
| Fedora 39 (ARM)             | PASS           | SKIPPED                      |
+-----------------------------+----------------+------------------------------+


Debian 11 (Buster) (ARM)
	Kernel: Container Host Kernel
	Compiler: gcc 10.2.1

Debian 12 (arm)
	Kernel: Container Host Kernel
	Compiler: gcc 12.2.0

CentOS Stream 9 (ARM)
	Kernel: Container Host Kernel
	Compiler: gcc 11.4.1

Fedora 38 (ARM)
	Kernel: Depends on container host
	Compiler: gcc 13.2.1

Fedora 38 (ARM Clang)
	Kernel: Depends on container host
	Compiler: clang 16.0.6

RHEL9 (ARM)
	Kernel: Depends on container host
	Compiler: gcc 11.4.1

Fedora 39 (ARM Clang)
	Kernel: Depends on container host
	Compiler: clang 17.0.6

32-bit Ubuntu 20.04.4 (ARM)
	Kernel: 5.4.0-155-generic aarch64
	Compiler: gcc 9.4

Ubuntu 20.04 (ARM)
	Kernel: Container Host Kernel
	Compiler: gcc 9.4.0

Fedora 37 (ARM)
	Kernel: Depends on container host
	Compiler: gcc 12.3.1

Ubuntu 22.04 (ARM)
	Kernel: Container Host Kernel
	Compiler: gcc 11.4.0

Ubuntu 24.04 (ARM)
	Kernel: 5.4.0-167-generic
	Compiler: gcc 13.2.0

Fedora 39 (ARM)
	Kernel: Depends on container host
	Compiler: gcc 13.2.1

To view detailed results, visit:
https://lab.dpdk.org/results/dashboard/patchsets/30189/

UNH-IOL DPDK Community Lab

To manage your email subscriptions, visit: 
https://lab.dpdk.org/results/dashboard/preferences/subscriptions/


More information about the test-report mailing list