|SUCCESS| [GIT MASTER] 6909b48776badc05542a410ebd34bcfec4c248bf

dpdklab at iol.unh.edu dpdklab at iol.unh.edu
Fri Jun 14 23:26:09 CEST 2024


_Testing PASS_

Branch: dpdk-next-crypto

6909b48776badc05542a410ebd34bcfec4c248bf --> testing pass

Test environment and result as below:

+---------------------+--------------------+-------------------+------------------+----------------------+-------------------+
|     Environment     | dpdk_meson_compile | dpdk_msvc_compile | dpdk_compile_ovs | dpdk_mingw64_compile | dpdk_compile_spdk |
+=====================+====================+===================+==================+======================+===================+
| FreeBSD 13.3        | PASS               | SKIPPED           | SKIPPED          | SKIPPED              | SKIPPED           |
+---------------------+--------------------+-------------------+------------------+----------------------+-------------------+
| Windows Server 2022 | PASS               | PASS              | SKIPPED          | PASS                 | SKIPPED           |
+---------------------+--------------------+-------------------+------------------+----------------------+-------------------+
| RHEL8               | PASS               | SKIPPED           | PASS             | SKIPPED              | SKIPPED           |
+---------------------+--------------------+-------------------+------------------+----------------------+-------------------+
| Windows Server 2019 | PASS               | SKIPPED           | SKIPPED          | PASS                 | SKIPPED           |
+---------------------+--------------------+-------------------+------------------+----------------------+-------------------+
| CentOS Stream 8     | PASS               | SKIPPED           | PASS             | SKIPPED              | PASS              |
+---------------------+--------------------+-------------------+------------------+----------------------+-------------------+
| CentOS Stream 9     | PASS               | SKIPPED           | PASS             | SKIPPED              | PASS              |
+---------------------+--------------------+-------------------+------------------+----------------------+-------------------+
| FreeBSD 14.1        | PASS               | SKIPPED           | SKIPPED          | SKIPPED              | SKIPPED           |
+---------------------+--------------------+-------------------+------------------+----------------------+-------------------+
| openSUSE Leap 15    | PASS               | SKIPPED           | PASS             | SKIPPED              | SKIPPED           |
+---------------------+--------------------+-------------------+------------------+----------------------+-------------------+
| Debian Bullseye     | PASS               | SKIPPED           | PASS             | SKIPPED              | PASS              |
+---------------------+--------------------+-------------------+------------------+----------------------+-------------------+
| Fedora 40           | PASS               | SKIPPED           | PASS             | SKIPPED              | SKIPPED           |
+---------------------+--------------------+-------------------+------------------+----------------------+-------------------+
| Fedora 39           | PASS               | SKIPPED           | PASS             | SKIPPED              | PASS              |
+---------------------+--------------------+-------------------+------------------+----------------------+-------------------+
| Fedora 38           | PASS               | SKIPPED           | PASS             | SKIPPED              | PASS              |
+---------------------+--------------------+-------------------+------------------+----------------------+-------------------+
| Ubuntu 22.04        | PASS               | SKIPPED           | PASS             | SKIPPED              | PASS              |
+---------------------+--------------------+-------------------+------------------+----------------------+-------------------+
| Fedora 37           | PASS               | SKIPPED           | PASS             | SKIPPED              | PASS              |
+---------------------+--------------------+-------------------+------------------+----------------------+-------------------+
| Ubuntu 20.04        | PASS               | SKIPPED           | PASS             | SKIPPED              | SKIPPED           |
+---------------------+--------------------+-------------------+------------------+----------------------+-------------------+
| Debian 12           | PASS               | SKIPPED           | PASS             | SKIPPED              | PASS              |
+---------------------+--------------------+-------------------+------------------+----------------------+-------------------+
| RHEL9               | PASS               | SKIPPED           | PASS             | SKIPPED              | SKIPPED           |
+---------------------+--------------------+-------------------+------------------+----------------------+-------------------+
| Ubuntu 24.04        | PASS               | SKIPPED           | PASS             | SKIPPED              | PASS              |
+---------------------+--------------------+-------------------+------------------+----------------------+-------------------+
| Alpine              | PASS               | SKIPPED           | PASS             | SKIPPED              | SKIPPED           |
+---------------------+--------------------+-------------------+------------------+----------------------+-------------------+


FreeBSD 13.3
	Kernel: 13.3-RELEASE-p1
	Compiler: clang 17.0.6

Windows Server 2022
	Kernel: 10.0.20348.2031
	Compiler: clang 15.0.7, gcc 8.1.0 (MinGW), and MSVC VS 17.9

RHEL8
	Kernel: 5.4.0-167-generic
	Compiler: gcc 8.5.0 20210514 (Red Hat 8.5.0-20)

Windows Server 2019
	Kernel: 10.0.17763
	Compiler: clang 14.0 and gcc 8.1.0 (MinGW)

CentOS Stream 8
	Kernel: 5.4.0-167-generic
	Compiler: gcc 8.5.0 20210514

CentOS Stream 9
	Kernel: 5.4.0-167-generic
	Compiler: gcc 11.4.1 20230605

FreeBSD 14.1
	Kernel: 14.1
	Compiler: clang 18.1.5

openSUSE Leap 15
	Kernel: 5.4.0-167-generic
	Compiler: gcc 7.5.0

Debian Bullseye
	Kernel: 5.4.0-167-generic
	Compiler: gcc 10.2.1-6

Fedora 40
	Kernel: Depends on container host
	Compiler: clang 18.1.6

Fedora 39
	Kernel: Depends on container host
	Compiler: clang 17.0.6

Fedora 38
	Kernel: Depends on container host
	Compiler: clang 16.0.6

Ubuntu 22.04
	Kernel: 5.4.0-167-generic
	Compiler: gcc 11.4.0

Fedora 37
	Kernel: Depends on container host system
	Compiler: gcc 12.3.1

Ubuntu 20.04
	Kernel: 5.4.0-167-generic
	Compiler: gcc 9.4.0-1ubuntu1~20.04.1

Debian 12
	Kernel: Container Host Kernel
	Compiler: gcc 12.2.0

RHEL9
	Kernel: Depends on container host
	Compiler: gcc 11.4.1

Ubuntu 24.04
	Kernel: 5.4.0-167-generic
	Compiler: gcc 13.2.0

Alpine
	Kernel: 5.4.0-167-generic
	Compiler: gcc (Alpine 13.2.1_git20231014) 13.2.1 20231014

To view detailed results, visit:
https://lab.dpdk.org/results/dashboard/tarballs/29442/

UNH-IOL DPDK Community Lab

To manage your email subscriptions, visit: 
https://lab.dpdk.org/results/dashboard/preferences/subscriptions/


More information about the test-report mailing list