|SUCCESS| pw141154-141156 [PATCH] [v3,3/3] Config schema

dpdklab at iol.unh.edu dpdklab at iol.unh.edu
Sat Jun 15 00:26:30 CEST 2024


Test-Label: iol-abi-testing
Test-Status: SUCCESS
http://dpdk.org/patch/141156

_Testing PASS_

Submitter: Dean Marx <dmarx at iol.unh.edu>
Date: Friday, June 14 2024 15:02:38 
DPDK git baseline: Repo:dpdk
  Branch: master
  CommitID:c7f7b4172533257e8ed4328be400cbe7644ea4e3

141154-141156 --> testing pass

Test environment and result as below:

+-----------------+----------+
|   Environment   | abi_test |
+=================+==========+
| Fedora 38       | PASS     |
+-----------------+----------+
| Fedora 40       | PASS     |
+-----------------+----------+
| CentOS Stream 8 | PASS     |
+-----------------+----------+
| Fedora 39       | PASS     |
+-----------------+----------+
| Debian Bullseye | PASS     |
+-----------------+----------+
| Debian 12       | PASS     |
+-----------------+----------+
| RHEL8           | PASS     |
+-----------------+----------+


Fedora 38
	Kernel: Depends on container host
	Compiler: clang 16.0.6

Fedora 40
	Kernel: Depends on container host
	Compiler: clang 18.1.6

CentOS Stream 8
	Kernel: 5.4.0-167-generic
	Compiler: gcc 8.5.0 20210514

Fedora 39
	Kernel: Depends on container host
	Compiler: clang 17.0.6

Debian Bullseye
	Kernel: 5.4.0-167-generic
	Compiler: gcc 10.2.1-6

Debian 12
	Kernel: Container Host Kernel
	Compiler: gcc 12.2.0

RHEL8
	Kernel: 5.4.0-167-generic
	Compiler: gcc 8.5.0 20210514 (Red Hat 8.5.0-20)

To view detailed results, visit:
https://lab.dpdk.org/results/dashboard/patchsets/30194/

UNH-IOL DPDK Community Lab

To manage your email subscriptions, visit: 
https://lab.dpdk.org/results/dashboard/preferences/subscriptions/


More information about the test-report mailing list