|SUCCESS| pw141153 [PATCH] [v2,1/1] crypto/ipsec_mb: unify some IPse
    dpdklab at iol.unh.edu 
    dpdklab at iol.unh.edu
       
    Sat Jun 15 03:09:04 CEST 2024
    
    
  
Test-Label: iol-compile-amd64-testing
Test-Status: SUCCESS
http://dpdk.org/patch/141153
_Testing PASS_
Submitter: Brian Dooley <brian.dooley at intel.com>
Date: Friday, June 14 2024 14:07:59 
DPDK git baseline: Repo:dpdk
  Branch: master
  CommitID:6909b48776badc05542a410ebd34bcfec4c248bf
141153 --> testing pass
Test environment and result as below:
+---------------------+--------------------+----------------------+-------------------+------------------+-------------------+
|     Environment     | dpdk_meson_compile | dpdk_mingw64_compile | dpdk_msvc_compile | dpdk_compile_ovs | dpdk_compile_spdk |
+=====================+====================+======================+===================+==================+===================+
| FreeBSD 13.3        | PASS               | SKIPPED              | SKIPPED           | SKIPPED          | SKIPPED           |
+---------------------+--------------------+----------------------+-------------------+------------------+-------------------+
| Windows Server 2019 | PASS               | PASS                 | SKIPPED           | SKIPPED          | SKIPPED           |
+---------------------+--------------------+----------------------+-------------------+------------------+-------------------+
| FreeBSD 14.1        | PASS               | SKIPPED              | SKIPPED           | SKIPPED          | SKIPPED           |
+---------------------+--------------------+----------------------+-------------------+------------------+-------------------+
| Windows Server 2022 | PASS               | PASS                 | PASS              | SKIPPED          | SKIPPED           |
+---------------------+--------------------+----------------------+-------------------+------------------+-------------------+
| CentOS Stream 9     | PASS               | SKIPPED              | SKIPPED           | PASS             | PASS              |
+---------------------+--------------------+----------------------+-------------------+------------------+-------------------+
| CentOS Stream 8     | PASS               | SKIPPED              | SKIPPED           | PASS             | PASS              |
+---------------------+--------------------+----------------------+-------------------+------------------+-------------------+
| Debian Bullseye     | PASS               | SKIPPED              | SKIPPED           | PASS             | PASS              |
+---------------------+--------------------+----------------------+-------------------+------------------+-------------------+
| Debian 12           | PASS               | SKIPPED              | SKIPPED           | PASS             | PASS              |
+---------------------+--------------------+----------------------+-------------------+------------------+-------------------+
| Fedora 38           | PASS               | SKIPPED              | SKIPPED           | PASS             | PASS              |
+---------------------+--------------------+----------------------+-------------------+------------------+-------------------+
FreeBSD 13.3
	Kernel: 13.3-RELEASE-p1
	Compiler: clang 17.0.6
Windows Server 2019
	Kernel: 10.0.17763
	Compiler: clang 14.0 and gcc 8.1.0 (MinGW)
FreeBSD 14.1
	Kernel: 14.1
	Compiler: clang 18.1.5
Windows Server 2022
	Kernel: 10.0.20348.2031
	Compiler: clang 15.0.7, gcc 8.1.0 (MinGW), and MSVC VS 17.9
CentOS Stream 9
	Kernel: 5.4.0-167-generic
	Compiler: gcc 11.4.1 20230605
CentOS Stream 8
	Kernel: 5.4.0-167-generic
	Compiler: gcc 8.5.0 20210514
Debian Bullseye
	Kernel: 5.4.0-167-generic
	Compiler: gcc 10.2.1-6
Debian 12
	Kernel: Container Host Kernel
	Compiler: gcc 12.2.0
Fedora 38
	Kernel: Depends on container host
	Compiler: gcc 13.2.1
To view detailed results, visit:
https://lab.dpdk.org/results/dashboard/patchsets/30193/
UNH-IOL DPDK Community Lab
To manage your email subscriptions, visit: 
https://lab.dpdk.org/results/dashboard/preferences/subscriptions/
    
    
More information about the test-report
mailing list