|SUCCESS| pw141153 [PATCH] [v2,1/1] crypto/ipsec_mb: unify some IPse
dpdklab at iol.unh.edu
dpdklab at iol.unh.edu
Sat Jun 15 03:28:20 CEST 2024
Test-Label: iol-unit-arm64-testing
Test-Status: SUCCESS
http://dpdk.org/patch/141153
_Testing PASS_
Submitter: Brian Dooley <brian.dooley at intel.com>
Date: Friday, June 14 2024 14:07:59
DPDK git baseline: Repo:dpdk
Branch: master
CommitID:6909b48776badc05542a410ebd34bcfec4c248bf
141153 --> testing pass
Test environment and result as below:
+-----------------------------+----------------+--------------+------------------------------+
| Environment | dpdk_unit_test | lpm_autotest | cryptodev_sw_snow3g_autotest |
+=============================+================+==============+==============================+
| 32-bit Ubuntu 20.04.4 (ARM) | PASS | SKIPPED | SKIPPED |
+-----------------------------+----------------+--------------+------------------------------+
| Ubuntu 20.04 ARM SVE | SKIPPED | PASS | SKIPPED |
+-----------------------------+----------------+--------------+------------------------------+
| Debian 12 (arm) | SKIPPED | SKIPPED | PASS |
+-----------------------------+----------------+--------------+------------------------------+
32-bit Ubuntu 20.04.4 (ARM)
Kernel: 5.4.0-155-generic aarch64
Compiler: gcc 9.4
Ubuntu 20.04 ARM SVE
Kernel: 5.4.0-167-generic
Compiler: gcc (Ubuntu 10.5.0-1ubuntu1~20.04) 10.5.0
Debian 12 (arm)
Kernel: Container Host Kernel
Compiler: gcc 12.2.0
To view detailed results, visit:
https://lab.dpdk.org/results/dashboard/patchsets/30193/
UNH-IOL DPDK Community Lab
To manage your email subscriptions, visit:
https://lab.dpdk.org/results/dashboard/preferences/subscriptions/
More information about the test-report
mailing list