|SUCCESS| [GIT MASTER] a409653a123bf105970a25c594711a3cdc44d139

dpdklab at iol.unh.edu dpdklab at iol.unh.edu
Sat Jun 15 08:31:32 CEST 2024


_Testing PASS_

Branch: tags/v22.11

a409653a123bf105970a25c594711a3cdc44d139 --> testing pass

Test environment and result as below:

+-----------------------------+----------------+------------------------------+---------------------------+
|         Environment         | dpdk_unit_test | cryptodev_sw_snow3g_autotest | cryptodev_sw_zuc_autotest |
+=============================+================+==============================+===========================+
| 32-bit Ubuntu 20.04.4 (ARM) | PASS           | SKIPPED                      | SKIPPED                   |
+-----------------------------+----------------+------------------------------+---------------------------+
| Debian 12 (arm)             | SKIPPED        | PASS                         | PASS                      |
+-----------------------------+----------------+------------------------------+---------------------------+


32-bit Ubuntu 20.04.4 (ARM)
	Kernel: 5.4.0-155-generic aarch64
	Compiler: gcc 9.4

Debian 12 (arm)
	Kernel: Container Host Kernel
	Compiler: gcc 12.2.0

To view detailed results, visit:
https://lab.dpdk.org/results/dashboard/tarballs/29448/

UNH-IOL DPDK Community Lab

To manage your email subscriptions, visit: 
https://lab.dpdk.org/results/dashboard/preferences/subscriptions/


More information about the test-report mailing list