|SUCCESS| pw141159 [PATCH] crypto/cnxk: fix coverity issues
    dpdklab at iol.unh.edu 
    dpdklab at iol.unh.edu
       
    Sat Jun 15 16:55:50 CEST 2024
    
    
  
Test-Label: iol-unit-arm64-testing
Test-Status: SUCCESS
http://dpdk.org/patch/141159
_Testing PASS_
Submitter: Gowrishankar Muthukrishnan <gmuthukrishn at marvell.com>
Date: Saturday, June 15 2024 11:33:01 
DPDK git baseline: Repo:dpdk
  Branch: master
  CommitID:6909b48776badc05542a410ebd34bcfec4c248bf
141159 --> testing pass
Test environment and result as below:
+-----------------------------+----------------+------------------------------+---------------------------+--------------+
|         Environment         | dpdk_unit_test | cryptodev_sw_snow3g_autotest | cryptodev_sw_zuc_autotest | lpm_autotest |
+=============================+================+==============================+===========================+==============+
| 32-bit Ubuntu 20.04.4 (ARM) | PASS           | SKIPPED                      | SKIPPED                   | SKIPPED      |
+-----------------------------+----------------+------------------------------+---------------------------+--------------+
| CentOS Stream 9 (ARM)       | PASS           | SKIPPED                      | SKIPPED                   | SKIPPED      |
+-----------------------------+----------------+------------------------------+---------------------------+--------------+
| Debian 11 (Buster) (ARM)    | PASS           | SKIPPED                      | SKIPPED                   | SKIPPED      |
+-----------------------------+----------------+------------------------------+---------------------------+--------------+
| Fedora 37 (ARM)             | PASS           | SKIPPED                      | SKIPPED                   | SKIPPED      |
+-----------------------------+----------------+------------------------------+---------------------------+--------------+
| Debian 12 (arm)             | PASS           | PASS                         | PASS                      | SKIPPED      |
+-----------------------------+----------------+------------------------------+---------------------------+--------------+
| Fedora 39 (ARM)             | PASS           | SKIPPED                      | SKIPPED                   | SKIPPED      |
+-----------------------------+----------------+------------------------------+---------------------------+--------------+
| Fedora 40 (ARM)             | PASS           | SKIPPED                      | SKIPPED                   | SKIPPED      |
+-----------------------------+----------------+------------------------------+---------------------------+--------------+
| Fedora 39 (ARM Clang)       | PASS           | SKIPPED                      | SKIPPED                   | SKIPPED      |
+-----------------------------+----------------+------------------------------+---------------------------+--------------+
| RHEL9 (ARM)                 | PASS           | SKIPPED                      | SKIPPED                   | SKIPPED      |
+-----------------------------+----------------+------------------------------+---------------------------+--------------+
| Ubuntu 20.04 ARM SVE        | SKIPPED        | SKIPPED                      | SKIPPED                   | PASS         |
+-----------------------------+----------------+------------------------------+---------------------------+--------------+
32-bit Ubuntu 20.04.4 (ARM)
	Kernel: 5.4.0-155-generic aarch64
	Compiler: gcc 9.4
CentOS Stream 9 (ARM)
	Kernel: Container Host Kernel
	Compiler: gcc 11.4.1
Debian 11 (Buster) (ARM)
	Kernel: Container Host Kernel
	Compiler: gcc 10.2.1
Fedora 37 (ARM)
	Kernel: Depends on container host
	Compiler: gcc 12.3.1
Debian 12 (arm)
	Kernel: Container Host Kernel
	Compiler: gcc 12.2.0
Fedora 39 (ARM)
	Kernel: Depends on container host
	Compiler: gcc 13.2.1
Fedora 40 (ARM)
	Kernel: Depends on container host
	Compiler: gcc 14.1.1
Fedora 39 (ARM Clang)
	Kernel: Depends on container host
	Compiler: clang 17.0.6
RHEL9 (ARM)
	Kernel: Depends on container host
	Compiler: gcc 11.4.1
Ubuntu 20.04 ARM SVE
	Kernel: 5.4.0-167-generic
	Compiler: gcc (Ubuntu 10.5.0-1ubuntu1~20.04) 10.5.0
To view detailed results, visit:
https://lab.dpdk.org/results/dashboard/patchsets/30197/
UNH-IOL DPDK Community Lab
To manage your email subscriptions, visit: 
https://lab.dpdk.org/results/dashboard/preferences/subscriptions/
    
    
More information about the test-report
mailing list