|WARNING| pw141159 [PATCH] crypto/cnxk: fix coverity issues

dpdklab at iol.unh.edu dpdklab at iol.unh.edu
Sat Jun 15 17:23:15 CEST 2024


Test-Label: iol-sample-apps-testing
Test-Status: WARNING
http://dpdk.org/patch/141159

_Testing issues_

Submitter: Gowrishankar Muthukrishnan <gmuthukrishn at marvell.com>
Date: Saturday, June 15 2024 11:33:01 
DPDK git baseline: Repo:dpdk
  Branch: master
  CommitID:6909b48776badc05542a410ebd34bcfec4c248bf

141159 --> testing issues

Test environment and result as below:

+--------------------+----------------------+----------------------+
|    Environment     | compressdev_zlib_pmd | dpdk_fips_validation |
+====================+======================+======================+
| Ubuntu 22.04 (ARM) | PASS                 | SKIPPED              |
+--------------------+----------------------+----------------------+
| Ubuntu 22.04       | PASS                 | SKIPPED              |
+--------------------+----------------------+----------------------+
| Ubuntu 20.04       | SKIPPED              | WARN                 |
+--------------------+----------------------+----------------------+

==== 20 line log output for Ubuntu 20.04 (dpdk_fips_validation): ====
[2885/2903] Compiling C object 'examples/c590b3c@@dpdk-fips_validation at exe/fips_validation_fips_validation_aes.c.o'.
[2886/2903] Compiling C object 'examples/c590b3c@@dpdk-fips_validation at exe/fips_validation_fips_validation_ccm.c.o'.
[2887/2903] Compiling C object 'app/a172ced@@dpdk-test at exe/test_test_table_combined.c.o'.
[2888/2903] Compiling C object 'examples/c590b3c@@dpdk-fips_validation at exe/fips_validation_fips_validation_cmac.c.o'.
[2889/2903] Compiling C object 'examples/c590b3c@@dpdk-fips_validation at exe/fips_validation_fips_validation_xts.c.o'.
[2890/2903] Compiling C object 'examples/c590b3c@@dpdk-fips_validation at exe/fips_validation_fips_validation_ecdsa.c.o'.
[2891/2903] Compiling C object 'examples/c590b3c@@dpdk-fips_validation at exe/fips_validation_fips_validation_sha.c.o'.
[2892/2903] Compiling C object 'app/a172ced@@dpdk-test at exe/test_test_trace.c.o'.
[2893/2903] Compiling C object 'examples/c590b3c@@dpdk-fips_validation at exe/fips_validation_fips_validation_gcm.c.o'.
[2894/2903] Compiling C object 'examples/c590b3c@@dpdk-fips_validation at exe/fips_validation_fips_dev_self_test.c.o'.
[2895/2903] Compiling C object 'examples/c590b3c@@dpdk-fips_validation at exe/fips_validation_fips_validation_rsa.c.o'.
[2896/2903] Compiling C object 'examples/c590b3c@@dpdk-fips_validation at exe/fips_validation_fips_validation.c.o'.
[2897/2903] Compiling C object 'examples/c590b3c@@dpdk-fips_validation at exe/fips_validation_fips_validation_tdes.c.o'.
[2898/2903] Compiling C object 'examples/c590b3c@@dpdk-fips_validation at exe/fips_validation_main.c.o'.
[2899/2903] Linking target examples/dpdk-fips_validation.
[2900/2903] Compiling C object 'app/a172ced@@dpdk-test at exe/test_test_trace_perf.c.o'.
[2901/2903] Compiling C object 'app/a172ced@@dpdk-test at exe/test_test_ring_perf.c.o'.
[2902/2903] Compiling C object 'app/a172ced@@dpdk-test at exe/test_test_ring.c.o'.
[2903/2903] Linking target app/dpdk-test.
Processing file ../out/acvp-aes-cbc-vectors.json... Processing file ../out/cmac-aes-vectors.json... Processing file ../out/acvp-aes-gmac-vectors.json... Processing file ../out/hmac-sha-1-vectors.json... Processing file ../out/acvp-tdes-cbc-vectors.json... Processing file ../out/acvp-aes-ctr-vectors.json...
==== End log output ====

Ubuntu 22.04 (ARM)
	Kernel: 5.15.0-97-generic
	Compiler: gcc gcc (Ubuntu 11.4.0-1ubuntu1~22.04) 11.4.0

Ubuntu 22.04
	Kernel: 5.15.0-100-generic
	Compiler: gcc gcc (Ubuntu 11.4.0-1ubuntu1~22.04) 11.4.0

Ubuntu 20.04
	Kernel: 5.4.0-167-generic
	Compiler: gcc 9.4.0-1ubuntu1~20.04.1

To view detailed results, visit:
https://lab.dpdk.org/results/dashboard/patchsets/30197/

UNH-IOL DPDK Community Lab

To manage your email subscriptions, visit: 
https://lab.dpdk.org/results/dashboard/preferences/subscriptions/


More information about the test-report mailing list