|SUCCESS| pw141158 [PATCH] examples/fips_validation: fix coverity is
dpdklab at iol.unh.edu
dpdklab at iol.unh.edu
Sat Jun 15 17:55:41 CEST 2024
Test-Label: iol-unit-amd64-testing
Test-Status: SUCCESS
http://dpdk.org/patch/141158
_Testing PASS_
Submitter: Gowrishankar Muthukrishnan <gmuthukrishn at marvell.com>
Date: Saturday, June 15 2024 11:31:13
DPDK git baseline: Repo:dpdk
Branch: master
CommitID:cef922c9e0c53b05a7b939116b386993570c9bf9
141158 --> testing pass
Test environment and result as below:
+---------------------+----------------+
| Environment | dpdk_unit_test |
+=====================+================+
| Windows Server 2019 | PASS |
+---------------------+----------------+
| Windows Server 2022 | PASS |
+---------------------+----------------+
| CentOS Stream 8 | PASS |
+---------------------+----------------+
| Debian Bullseye | PASS |
+---------------------+----------------+
| CentOS Stream 9 | PASS |
+---------------------+----------------+
| Fedora 37 | PASS |
+---------------------+----------------+
| Fedora 39 | PASS |
+---------------------+----------------+
| Fedora 38 | PASS |
+---------------------+----------------+
| Debian 12 | PASS |
+---------------------+----------------+
| openSUSE Leap 15 | PASS |
+---------------------+----------------+
| RHEL8 | PASS |
+---------------------+----------------+
| Fedora 40 | PASS |
+---------------------+----------------+
Windows Server 2019
Kernel: 10.0.17763
Compiler: clang 14.0 and gcc 8.1.0 (MinGW)
Windows Server 2022
Kernel: 10.0.20348.2031
Compiler: clang 15.0.7, gcc 8.1.0 (MinGW), and MSVC VS 17.9
CentOS Stream 8
Kernel: 5.4.0-167-generic
Compiler: gcc 8.5.0 20210514
Debian Bullseye
Kernel: 5.4.0-167-generic
Compiler: gcc 10.2.1-6
CentOS Stream 9
Kernel: 5.4.0-167-generic
Compiler: gcc 11.4.1 20230605
Fedora 37
Kernel: Depends on container host system
Compiler: gcc 12.3.1
Fedora 39
Kernel: Depends on container host
Compiler: gcc 13.2.1
Fedora 38
Kernel: Depends on container host
Compiler: gcc 13.2.1
Debian 12
Kernel: Container Host Kernel
Compiler: gcc 12.2.0
openSUSE Leap 15
Kernel: 5.4.0-167-generic
Compiler: gcc 7.5.0
RHEL8
Kernel: 5.4.0-167-generic
Compiler: gcc 8.5.0 20210514 (Red Hat 8.5.0-20)
Fedora 40
Kernel: Depends on container host
Compiler: gcc 14.1.1
To view detailed results, visit:
https://lab.dpdk.org/results/dashboard/patchsets/30196/
UNH-IOL DPDK Community Lab
To manage your email subscriptions, visit:
https://lab.dpdk.org/results/dashboard/preferences/subscriptions/
More information about the test-report
mailing list