|WARNING| pw141158 [PATCH] examples/fips_validation: fix coverity is
dpdklab at iol.unh.edu
dpdklab at iol.unh.edu
Sat Jun 15 18:08:11 CEST 2024
Test-Label: iol-sample-apps-testing
Test-Status: WARNING
http://dpdk.org/patch/141158
_Testing issues_
Submitter: Gowrishankar Muthukrishnan <gmuthukrishn at marvell.com>
Date: Saturday, June 15 2024 11:31:13
DPDK git baseline: Repo:dpdk
Branch: master
CommitID:cef922c9e0c53b05a7b939116b386993570c9bf9
141158 --> testing issues
Test environment and result as below:
+--------------------+----------------------+----------------------+
| Environment | compressdev_zlib_pmd | dpdk_fips_validation |
+====================+======================+======================+
| Ubuntu 22.04 (ARM) | PASS | SKIPPED |
+--------------------+----------------------+----------------------+
| Ubuntu 22.04 | PASS | SKIPPED |
+--------------------+----------------------+----------------------+
| Ubuntu 20.04 | SKIPPED | WARN |
+--------------------+----------------------+----------------------+
==== 20 line log output for Ubuntu 20.04 (dpdk_fips_validation): ====
[2876/2894] Compiling C object 'app/a172ced@@dpdk-test at exe/test_test_table_combined.c.o'.
[2877/2894] Compiling C object 'examples/c590b3c@@dpdk-fips_validation at exe/fips_validation_fips_validation_hmac.c.o'.
[2878/2894] Compiling C object 'examples/c590b3c@@dpdk-fips_validation at exe/fips_validation_fips_validation_gcm.c.o'.
[2879/2894] Compiling C object 'examples/c590b3c@@dpdk-fips_validation at exe/fips_validation_fips_validation_aes.c.o'.
[2880/2894] Compiling C object 'examples/c590b3c@@dpdk-fips_validation at exe/fips_validation_fips_validation_xts.c.o'.
[2881/2894] Compiling C object 'examples/c590b3c@@dpdk-fips_validation at exe/fips_validation_fips_validation_ecdsa.c.o'.
[2882/2894] Compiling C object 'examples/c590b3c@@dpdk-fips_validation at exe/fips_validation_fips_validation.c.o'.
[2883/2894] Compiling C object 'examples/c590b3c@@dpdk-fips_validation at exe/fips_validation_fips_validation_cmac.c.o'.
[2884/2894] Compiling C object 'examples/c590b3c@@dpdk-fips_validation at exe/fips_validation_fips_validation_tdes.c.o'.
[2885/2894] Compiling C object 'examples/c590b3c@@dpdk-fips_validation at exe/fips_validation_fips_dev_self_test.c.o'.
[2886/2894] Compiling C object 'examples/c590b3c@@dpdk-fips_validation at exe/fips_validation_fips_validation_ccm.c.o'.
[2887/2894] Compiling C object 'examples/c590b3c@@dpdk-fips_validation at exe/fips_validation_fips_validation_rsa.c.o'.
[2888/2894] Compiling C object 'examples/c590b3c@@dpdk-fips_validation at exe/fips_validation_fips_validation_sha.c.o'.
[2889/2894] Compiling C object 'examples/c590b3c@@dpdk-fips_validation at exe/fips_validation_main.c.o'.
[2890/2894] Linking target examples/dpdk-fips_validation.
[2891/2894] Compiling C object 'app/a172ced@@dpdk-test at exe/test_test_trace_perf.c.o'.
[2892/2894] Compiling C object 'app/a172ced@@dpdk-test at exe/test_test_ring_perf.c.o'.
[2893/2894] Compiling C object 'app/a172ced@@dpdk-test at exe/test_test_ring.c.o'.
[2894/2894] Linking target app/dpdk-test.
Processing file ../out/acvp-aes-cbc-vectors.json... Processing file ../out/cmac-aes-vectors.json... Processing file ../out/acvp-aes-gmac-vectors.json... Processing file ../out/hmac-sha-1-vectors.json... Processing file ../out/acvp-tdes-cbc-vectors.json... Processing file ../out/acvp-aes-ctr-vectors.json...
==== End log output ====
Ubuntu 22.04 (ARM)
Kernel: 5.15.0-97-generic
Compiler: gcc gcc (Ubuntu 11.4.0-1ubuntu1~22.04) 11.4.0
Ubuntu 22.04
Kernel: 5.15.0-100-generic
Compiler: gcc gcc (Ubuntu 11.4.0-1ubuntu1~22.04) 11.4.0
Ubuntu 20.04
Kernel: 5.4.0-167-generic
Compiler: gcc 9.4.0-1ubuntu1~20.04.1
To view detailed results, visit:
https://lab.dpdk.org/results/dashboard/patchsets/30196/
UNH-IOL DPDK Community Lab
To manage your email subscriptions, visit:
https://lab.dpdk.org/results/dashboard/preferences/subscriptions/
More information about the test-report
mailing list