|SUCCESS| [GIT MASTER] cef922c9e0c53b05a7b939116b386993570c9bf9
    dpdklab at iol.unh.edu 
    dpdklab at iol.unh.edu
       
    Sun Jun 16 02:53:11 CEST 2024
    
    
  
_Testing PASS_
Branch: dpdk
cef922c9e0c53b05a7b939116b386993570c9bf9 --> testing pass
Test environment and result as below:
+-----------------------------+---------------------------+------------------------------+----------------+
|         Environment         | cryptodev_sw_zuc_autotest | cryptodev_sw_snow3g_autotest | dpdk_unit_test |
+=============================+===========================+==============================+================+
| Debian 12 (arm)             | PASS                      | PASS                         | PASS           |
+-----------------------------+---------------------------+------------------------------+----------------+
| Debian 11 (Buster) (ARM)    | SKIPPED                   | SKIPPED                      | PASS           |
+-----------------------------+---------------------------+------------------------------+----------------+
| Fedora 37 (ARM)             | SKIPPED                   | SKIPPED                      | PASS           |
+-----------------------------+---------------------------+------------------------------+----------------+
| 32-bit Ubuntu 20.04.4 (ARM) | SKIPPED                   | SKIPPED                      | PASS           |
+-----------------------------+---------------------------+------------------------------+----------------+
Debian 12 (arm)
	Kernel: Container Host Kernel
	Compiler: gcc 12.2.0
Debian 11 (Buster) (ARM)
	Kernel: Container Host Kernel
	Compiler: gcc 10.2.1
Fedora 37 (ARM)
	Kernel: Depends on container host
	Compiler: gcc 12.3.1
32-bit Ubuntu 20.04.4 (ARM)
	Kernel: 5.4.0-155-generic aarch64
	Compiler: gcc 9.4
To view detailed results, visit:
https://lab.dpdk.org/results/dashboard/tarballs/29454/
UNH-IOL DPDK Community Lab
To manage your email subscriptions, visit: 
https://lab.dpdk.org/results/dashboard/preferences/subscriptions/
    
    
More information about the test-report
mailing list