|SUCCESS| pw141170-141173 [PATCH] [v1,4/4] test/crypto: add modex te
dpdklab at iol.unh.edu
dpdklab at iol.unh.edu
Sun Jun 16 09:53:29 CEST 2024
Test-Label: iol-compile-arm64-testing
Test-Status: SUCCESS
http://dpdk.org/patch/141173
_Testing PASS_
Submitter: Gowrishankar Muthukrishnan <gmuthukrishn at marvell.com>
Date: Sunday, June 16 2024 04:42:20
DPDK git baseline: Repo:dpdk
Branch: master
CommitID:6909b48776badc05542a410ebd34bcfec4c248bf
141170-141173 --> testing pass
Test environment and result as below:
+----------------------+--------------------+
| Environment | dpdk_meson_compile |
+======================+====================+
| Ubuntu 20.04 ARM SVE | PASS |
+----------------------+--------------------+
| RHEL9 (ARM) | PASS |
+----------------------+--------------------+
| Fedora 38 (ARM) | PASS |
+----------------------+--------------------+
| Fedora 37 (ARM) | PASS |
+----------------------+--------------------+
Ubuntu 20.04 ARM SVE
Kernel: 5.4.0-167-generic
Compiler: gcc (Ubuntu 10.5.0-1ubuntu1~20.04) 10.5.0
RHEL9 (ARM)
Kernel: Depends on container host
Compiler: gcc 11.4.1
Fedora 38 (ARM)
Kernel: Depends on container host
Compiler: gcc 13.2.1
Fedora 37 (ARM)
Kernel: Depends on container host
Compiler: gcc 12.3.1
To view detailed results, visit:
https://lab.dpdk.org/results/dashboard/patchsets/30201/
UNH-IOL DPDK Community Lab
To manage your email subscriptions, visit:
https://lab.dpdk.org/results/dashboard/preferences/subscriptions/
More information about the test-report
mailing list