|SUCCESS| [GIT MASTER] a6ec5765cf83d3d58cbd6d4ed5b92b4a06f8a808

dpdklab at iol.unh.edu dpdklab at iol.unh.edu
Mon Jun 17 08:11:59 CEST 2024


_Testing PASS_

Branch: tags/v23.11

a6ec5765cf83d3d58cbd6d4ed5b92b4a06f8a808 --> testing pass

Test environment and result as below:

+---------------------+-------------------+--------------------+----------------------+------------------+-------------------+
|     Environment     | dpdk_msvc_compile | dpdk_meson_compile | dpdk_mingw64_compile | dpdk_compile_ovs | dpdk_compile_spdk |
+=====================+===================+====================+======================+==================+===================+
| Windows Server 2022 | PASS              | PASS               | PASS                 | SKIPPED          | SKIPPED           |
+---------------------+-------------------+--------------------+----------------------+------------------+-------------------+
| FreeBSD 13.3        | SKIPPED           | PASS               | SKIPPED              | SKIPPED          | SKIPPED           |
+---------------------+-------------------+--------------------+----------------------+------------------+-------------------+
| FreeBSD 14.1        | SKIPPED           | PASS               | SKIPPED              | SKIPPED          | SKIPPED           |
+---------------------+-------------------+--------------------+----------------------+------------------+-------------------+
| Windows Server 2019 | SKIPPED           | PASS               | PASS                 | SKIPPED          | SKIPPED           |
+---------------------+-------------------+--------------------+----------------------+------------------+-------------------+
| CentOS Stream 9     | SKIPPED           | PASS               | SKIPPED              | PASS             | PASS              |
+---------------------+-------------------+--------------------+----------------------+------------------+-------------------+
| Debian Bullseye     | SKIPPED           | PASS               | SKIPPED              | PASS             | PASS              |
+---------------------+-------------------+--------------------+----------------------+------------------+-------------------+
| Fedora 37           | SKIPPED           | PASS               | SKIPPED              | PASS             | PASS              |
+---------------------+-------------------+--------------------+----------------------+------------------+-------------------+
| CentOS Stream 8     | SKIPPED           | PASS               | SKIPPED              | PASS             | PASS              |
+---------------------+-------------------+--------------------+----------------------+------------------+-------------------+
| RHEL8               | SKIPPED           | PASS               | SKIPPED              | PASS             | SKIPPED           |
+---------------------+-------------------+--------------------+----------------------+------------------+-------------------+
| Fedora 39           | SKIPPED           | PASS               | SKIPPED              | PASS             | PASS              |
+---------------------+-------------------+--------------------+----------------------+------------------+-------------------+
| RHEL9               | SKIPPED           | PASS               | SKIPPED              | PASS             | SKIPPED           |
+---------------------+-------------------+--------------------+----------------------+------------------+-------------------+


Windows Server 2022
	Kernel: 10.0.20348.2031
	Compiler: clang 15.0.7, gcc 8.1.0 (MinGW), and MSVC VS 17.9

FreeBSD 13.3
	Kernel: 13.3-RELEASE-p1
	Compiler: clang 17.0.6

FreeBSD 14.1
	Kernel: 14.1
	Compiler: clang 18.1.5

Windows Server 2019
	Kernel: 10.0.17763
	Compiler: clang 14.0 and gcc 8.1.0 (MinGW)

CentOS Stream 9
	Kernel: 5.4.0-167-generic
	Compiler: gcc 11.4.1 20230605

Debian Bullseye
	Kernel: 5.4.0-167-generic
	Compiler: gcc 10.2.1-6

Fedora 37
	Kernel: Depends on container host system
	Compiler: gcc 12.3.1

CentOS Stream 8
	Kernel: 5.4.0-167-generic
	Compiler: gcc 8.5.0 20210514

RHEL8
	Kernel: 5.4.0-167-generic
	Compiler: gcc 8.5.0 20210514 (Red Hat 8.5.0-20)

Fedora 39
	Kernel: Depends on container host
	Compiler: gcc 13.2.1

RHEL9
	Kernel: Depends on container host
	Compiler: gcc 11.4.1

To view detailed results, visit:
https://lab.dpdk.org/results/dashboard/tarballs/29462/

UNH-IOL DPDK Community Lab

To manage your email subscriptions, visit: 
https://lab.dpdk.org/results/dashboard/preferences/subscriptions/


More information about the test-report mailing list