|SUCCESS| pw141175-141181 [PATCH] [7/7] test/security: use single se
    dpdklab at iol.unh.edu 
    dpdklab at iol.unh.edu
       
    Mon Jun 17 10:04:46 CEST 2024
    
    
  
Test-Label: iol-unit-arm64-testing
Test-Status: SUCCESS
http://dpdk.org/patch/141181
_Testing PASS_
Submitter: Aakash Sasidharan <asasidharan at marvell.com>
Date: Monday, June 17 2024 05:58:41 
DPDK git baseline: Repo:dpdk
  Branch: master
  CommitID:6909b48776badc05542a410ebd34bcfec4c248bf
141175-141181 --> testing pass
Test environment and result as below:
+-----------------------------+----------------+------------------------------+
|         Environment         | dpdk_unit_test | cryptodev_sw_snow3g_autotest |
+=============================+================+==============================+
| Debian 11 (Buster) (ARM)    | PASS           | SKIPPED                      |
+-----------------------------+----------------+------------------------------+
| CentOS Stream 9 (ARM)       | PASS           | SKIPPED                      |
+-----------------------------+----------------+------------------------------+
| Debian 12 (arm)             | PASS           | PASS                         |
+-----------------------------+----------------+------------------------------+
| Fedora 38 (ARM)             | PASS           | SKIPPED                      |
+-----------------------------+----------------+------------------------------+
| Fedora 39 (ARM)             | PASS           | SKIPPED                      |
+-----------------------------+----------------+------------------------------+
| Fedora 37 (ARM)             | PASS           | SKIPPED                      |
+-----------------------------+----------------+------------------------------+
| 32-bit Ubuntu 20.04.4 (ARM) | PASS           | SKIPPED                      |
+-----------------------------+----------------+------------------------------+
| Fedora 40 (ARM)             | PASS           | SKIPPED                      |
+-----------------------------+----------------+------------------------------+
| Fedora 38 (ARM Clang)       | PASS           | SKIPPED                      |
+-----------------------------+----------------+------------------------------+
| RHEL9 (ARM)                 | PASS           | SKIPPED                      |
+-----------------------------+----------------+------------------------------+
Debian 11 (Buster) (ARM)
	Kernel: Container Host Kernel
	Compiler: gcc 10.2.1
CentOS Stream 9 (ARM)
	Kernel: Container Host Kernel
	Compiler: gcc 11.4.1
Debian 12 (arm)
	Kernel: Container Host Kernel
	Compiler: gcc 12.2.0
Fedora 38 (ARM)
	Kernel: Depends on container host
	Compiler: gcc 13.2.1
Fedora 39 (ARM)
	Kernel: Depends on container host
	Compiler: gcc 13.2.1
Fedora 37 (ARM)
	Kernel: Depends on container host
	Compiler: gcc 12.3.1
32-bit Ubuntu 20.04.4 (ARM)
	Kernel: 5.4.0-155-generic aarch64
	Compiler: gcc 9.4
Fedora 40 (ARM)
	Kernel: Depends on container host
	Compiler: gcc 14.1.1
Fedora 38 (ARM Clang)
	Kernel: Depends on container host
	Compiler: clang 16.0.6
RHEL9 (ARM)
	Kernel: Depends on container host
	Compiler: gcc 11.4.1
To view detailed results, visit:
https://lab.dpdk.org/results/dashboard/patchsets/30203/
UNH-IOL DPDK Community Lab
To manage your email subscriptions, visit: 
https://lab.dpdk.org/results/dashboard/preferences/subscriptions/
    
    
More information about the test-report
mailing list