|SUCCESS| pw141182-141192 [PATCH] [v3,11/11] doc: update nfp documen

dpdklab at iol.unh.edu dpdklab at iol.unh.edu
Mon Jun 17 15:19:07 CEST 2024


Test-Label: iol-unit-arm64-testing
Test-Status: SUCCESS
http://dpdk.org/patch/141192

_Testing PASS_

Submitter: Chaoyong He <chaoyong.he at corigine.com>
Date: Monday, June 17 2024 06:27:08 
DPDK git baseline: Repo:dpdk
  Branch: master
  CommitID:fbba6db3640f9f623c29c452e1a6b057073e81d2

141182-141192 --> testing pass

Test environment and result as below:

+-----------------------------+----------------+---------------------------+
|         Environment         | dpdk_unit_test | cryptodev_sw_zuc_autotest |
+=============================+================+===========================+
| Debian 11 (Buster) (ARM)    | PASS           | SKIPPED                   |
+-----------------------------+----------------+---------------------------+
| CentOS Stream 9 (ARM)       | PASS           | SKIPPED                   |
+-----------------------------+----------------+---------------------------+
| Fedora 37 (ARM)             | PASS           | SKIPPED                   |
+-----------------------------+----------------+---------------------------+
| Debian 12 (arm)             | PASS           | PASS                      |
+-----------------------------+----------------+---------------------------+
| Fedora 38 (ARM)             | PASS           | SKIPPED                   |
+-----------------------------+----------------+---------------------------+
| Fedora 39 (ARM)             | PASS           | SKIPPED                   |
+-----------------------------+----------------+---------------------------+
| 32-bit Ubuntu 20.04.4 (ARM) | PASS           | SKIPPED                   |
+-----------------------------+----------------+---------------------------+
| Fedora 40 (ARM)             | PASS           | SKIPPED                   |
+-----------------------------+----------------+---------------------------+
| Fedora 40 (ARM Clang)       | PASS           | SKIPPED                   |
+-----------------------------+----------------+---------------------------+
| RHEL9 (ARM)                 | PASS           | SKIPPED                   |
+-----------------------------+----------------+---------------------------+
| Ubuntu 20.04 (ARM)          | PASS           | SKIPPED                   |
+-----------------------------+----------------+---------------------------+
| Ubuntu 22.04 (ARM)          | PASS           | SKIPPED                   |
+-----------------------------+----------------+---------------------------+
| Ubuntu 24.04 (ARM)          | PASS           | SKIPPED                   |
+-----------------------------+----------------+---------------------------+


Debian 11 (Buster) (ARM)
	Kernel: Container Host Kernel
	Compiler: gcc 10.2.1

CentOS Stream 9 (ARM)
	Kernel: Container Host Kernel
	Compiler: gcc 11.4.1

Fedora 37 (ARM)
	Kernel: Depends on container host
	Compiler: gcc 12.3.1

Debian 12 (arm)
	Kernel: Container Host Kernel
	Compiler: gcc 12.2.0

Fedora 38 (ARM)
	Kernel: Depends on container host
	Compiler: gcc 13.2.1

Fedora 39 (ARM)
	Kernel: Depends on container host
	Compiler: gcc 13.2.1

32-bit Ubuntu 20.04.4 (ARM)
	Kernel: 5.4.0-155-generic aarch64
	Compiler: gcc 9.4

Fedora 40 (ARM)
	Kernel: Depends on container host
	Compiler: gcc 14.1.1

Fedora 40 (ARM Clang)
	Kernel: Depends on container host
	Compiler: clang 18.1.6

RHEL9 (ARM)
	Kernel: Depends on container host
	Compiler: gcc 11.4.1

Ubuntu 20.04 (ARM)
	Kernel: Container Host Kernel
	Compiler: gcc 9.4.0

Ubuntu 22.04 (ARM)
	Kernel: Container Host Kernel
	Compiler: gcc 11.4.0

Ubuntu 24.04 (ARM)
	Kernel: 5.4.0-167-generic
	Compiler: gcc 13.2.0

To view detailed results, visit:
https://lab.dpdk.org/results/dashboard/patchsets/30204/

UNH-IOL DPDK Community Lab

To manage your email subscriptions, visit: 
https://lab.dpdk.org/results/dashboard/preferences/subscriptions/


More information about the test-report mailing list