|SUCCESS| pw141205-141206 [PATCH] [2/2] net/mlx5: fix non-template I

dpdklab at iol.unh.edu dpdklab at iol.unh.edu
Mon Jun 17 18:10:48 CEST 2024


Test-Label: iol-unit-arm64-testing
Test-Status: SUCCESS
http://dpdk.org/patch/141206

_Testing PASS_

Submitter: Gregory Etelson <getelson at nvidia.com>
Date: Monday, June 17 2024 14:07:47 
DPDK git baseline: Repo:dpdk
  Branch: master
  CommitID:c1cdfbcc339c2c951bff95854983a8773d9e5b8e

141205-141206 --> testing pass

Test environment and result as below:

+-----------------------------+----------------+------------------------------+
|         Environment         | dpdk_unit_test | cryptodev_sw_snow3g_autotest |
+=============================+================+==============================+
| CentOS Stream 9 (ARM)       | PASS           | SKIPPED                      |
+-----------------------------+----------------+------------------------------+
| Debian 12 (arm)             | PASS           | PASS                         |
+-----------------------------+----------------+------------------------------+
| 32-bit Ubuntu 20.04.4 (ARM) | PASS           | SKIPPED                      |
+-----------------------------+----------------+------------------------------+
| Debian 11 (Buster) (ARM)    | PASS           | SKIPPED                      |
+-----------------------------+----------------+------------------------------+
| Fedora 37 (ARM)             | PASS           | SKIPPED                      |
+-----------------------------+----------------+------------------------------+
| Fedora 38 (ARM)             | PASS           | SKIPPED                      |
+-----------------------------+----------------+------------------------------+
| Fedora 39 (ARM)             | PASS           | SKIPPED                      |
+-----------------------------+----------------+------------------------------+
| Fedora 40 (ARM)             | PASS           | SKIPPED                      |
+-----------------------------+----------------+------------------------------+
| Fedora 39 (ARM Clang)       | PASS           | SKIPPED                      |
+-----------------------------+----------------+------------------------------+


CentOS Stream 9 (ARM)
	Kernel: Container Host Kernel
	Compiler: gcc 11.4.1

Debian 12 (arm)
	Kernel: Container Host Kernel
	Compiler: gcc 12.2.0

32-bit Ubuntu 20.04.4 (ARM)
	Kernel: 5.4.0-155-generic aarch64
	Compiler: gcc 9.4

Debian 11 (Buster) (ARM)
	Kernel: Container Host Kernel
	Compiler: gcc 10.2.1

Fedora 37 (ARM)
	Kernel: Depends on container host
	Compiler: gcc 12.3.1

Fedora 38 (ARM)
	Kernel: Depends on container host
	Compiler: gcc 13.2.1

Fedora 39 (ARM)
	Kernel: Depends on container host
	Compiler: gcc 13.2.1

Fedora 40 (ARM)
	Kernel: Depends on container host
	Compiler: gcc 14.1.1

Fedora 39 (ARM Clang)
	Kernel: Depends on container host
	Compiler: clang 17.0.6

To view detailed results, visit:
https://lab.dpdk.org/results/dashboard/patchsets/30209/

UNH-IOL DPDK Community Lab

To manage your email subscriptions, visit: 
https://lab.dpdk.org/results/dashboard/preferences/subscriptions/


More information about the test-report mailing list