|SUCCESS| pw141204 [PATCH] net/mlx5: fix HWS VXLAN item validation
dpdklab at iol.unh.edu
dpdklab at iol.unh.edu
Mon Jun 17 18:31:16 CEST 2024
Test-Label: iol-abi-testing
Test-Status: SUCCESS
http://dpdk.org/patch/141204
_Testing PASS_
Submitter: Gregory Etelson <getelson at nvidia.com>
Date: Monday, June 17 2024 14:03:41
DPDK git baseline: Repo:dpdk
Branch: master
CommitID:c1cdfbcc339c2c951bff95854983a8773d9e5b8e
141204 --> testing pass
Test environment and result as below:
+------------------+----------+
| Environment | abi_test |
+==================+==========+
| CentOS Stream 9 | PASS |
+------------------+----------+
| Fedora 38 | PASS |
+------------------+----------+
| Debian Bullseye | PASS |
+------------------+----------+
| CentOS Stream 8 | PASS |
+------------------+----------+
| Fedora 37 | PASS |
+------------------+----------+
| Debian 12 | PASS |
+------------------+----------+
| Fedora 40 | PASS |
+------------------+----------+
| Fedora 39 | PASS |
+------------------+----------+
| openSUSE Leap 15 | PASS |
+------------------+----------+
CentOS Stream 9
Kernel: 5.4.0-167-generic
Compiler: gcc 11.4.1 20230605
Fedora 38
Kernel: Depends on container host
Compiler: gcc 13.2.1
Debian Bullseye
Kernel: 5.4.0-167-generic
Compiler: gcc 10.2.1-6
CentOS Stream 8
Kernel: 5.4.0-167-generic
Compiler: gcc 8.5.0 20210514
Fedora 37
Kernel: Depends on container host system
Compiler: gcc 12.3.1
Debian 12
Kernel: Container Host Kernel
Compiler: gcc 12.2.0
Fedora 40
Kernel: Depends on container host
Compiler: clang 18.1.6
Fedora 39
Kernel: Depends on container host
Compiler: clang 17.0.6
openSUSE Leap 15
Kernel: 5.4.0-167-generic
Compiler: gcc 7.5.0
To view detailed results, visit:
https://lab.dpdk.org/results/dashboard/patchsets/30208/
UNH-IOL DPDK Community Lab
To manage your email subscriptions, visit:
https://lab.dpdk.org/results/dashboard/preferences/subscriptions/
More information about the test-report
mailing list