|SUCCESS| pw141204 [PATCH] net/mlx5: fix HWS VXLAN item validation

dpdklab at iol.unh.edu dpdklab at iol.unh.edu
Mon Jun 17 19:18:30 CEST 2024


Test-Label: iol-compile-amd64-testing
Test-Status: SUCCESS
http://dpdk.org/patch/141204

_Testing PASS_

Submitter: Gregory Etelson <getelson at nvidia.com>
Date: Monday, June 17 2024 14:03:41 
DPDK git baseline: Repo:dpdk
  Branch: master
  CommitID:c1cdfbcc339c2c951bff95854983a8773d9e5b8e

141204 --> testing pass

Test environment and result as below:

+---------------------+--------------------+-------------------+----------------------+------------------+-------------------+
|     Environment     | dpdk_meson_compile | dpdk_msvc_compile | dpdk_mingw64_compile | dpdk_compile_ovs | dpdk_compile_spdk |
+=====================+====================+===================+======================+==================+===================+
| FreeBSD 13.3        | PASS               | SKIPPED           | SKIPPED              | SKIPPED          | SKIPPED           |
+---------------------+--------------------+-------------------+----------------------+------------------+-------------------+
| Windows Server 2019 | PASS               | SKIPPED           | PASS                 | SKIPPED          | SKIPPED           |
+---------------------+--------------------+-------------------+----------------------+------------------+-------------------+
| FreeBSD 14.1        | PASS               | SKIPPED           | SKIPPED              | SKIPPED          | SKIPPED           |
+---------------------+--------------------+-------------------+----------------------+------------------+-------------------+
| Windows Server 2022 | PASS               | PASS              | PASS                 | SKIPPED          | SKIPPED           |
+---------------------+--------------------+-------------------+----------------------+------------------+-------------------+
| Debian Bullseye     | PASS               | SKIPPED           | SKIPPED              | PASS             | PASS              |
+---------------------+--------------------+-------------------+----------------------+------------------+-------------------+
| CentOS Stream 8     | PASS               | SKIPPED           | SKIPPED              | PASS             | PASS              |
+---------------------+--------------------+-------------------+----------------------+------------------+-------------------+


FreeBSD 13.3
	Kernel: 13.3-RELEASE-p1
	Compiler: clang 17.0.6

Windows Server 2019
	Kernel: 10.0.17763
	Compiler: clang 14.0 and gcc 8.1.0 (MinGW)

FreeBSD 14.1
	Kernel: 14.1
	Compiler: clang 18.1.5

Windows Server 2022
	Kernel: 10.0.20348.2031
	Compiler: clang 15.0.7, gcc 8.1.0 (MinGW), and MSVC VS 17.9

Debian Bullseye
	Kernel: 5.4.0-167-generic
	Compiler: gcc 10.2.1-6

CentOS Stream 8
	Kernel: 5.4.0-167-generic
	Compiler: gcc 8.5.0 20210514

To view detailed results, visit:
https://lab.dpdk.org/results/dashboard/patchsets/30208/

UNH-IOL DPDK Community Lab

To manage your email subscriptions, visit: 
https://lab.dpdk.org/results/dashboard/preferences/subscriptions/


More information about the test-report mailing list