|SUCCESS| pw141225 [PATCH] [v5] lib/hash: add siphash
dpdklab at iol.unh.edu
dpdklab at iol.unh.edu
Tue Jun 18 04:19:38 CEST 2024
Test-Label: iol-compile-amd64-testing
Test-Status: SUCCESS
http://dpdk.org/patch/141225
_Testing PASS_
Submitter: Stephen Hemminger <stephen at networkplumber.org>
Date: Monday, June 17 2024 14:58:41
DPDK git baseline: Repo:dpdk
Branch: master
CommitID:2a3b212fafaab648cf8abf771da427c991cd5de8
141225 --> testing pass
Test environment and result as below:
+---------------------+--------------------+----------------------+------------------+-------------------+-------------------+
| Environment | dpdk_meson_compile | dpdk_mingw64_compile | dpdk_compile_ovs | dpdk_compile_spdk | dpdk_msvc_compile |
+=====================+====================+======================+==================+===================+===================+
| FreeBSD 13.3 | PASS | SKIPPED | SKIPPED | SKIPPED | SKIPPED |
+---------------------+--------------------+----------------------+------------------+-------------------+-------------------+
| Windows Server 2022 | PASS | PASS | SKIPPED | SKIPPED | PASS |
+---------------------+--------------------+----------------------+------------------+-------------------+-------------------+
| Windows Server 2019 | PASS | PASS | SKIPPED | SKIPPED | SKIPPED |
+---------------------+--------------------+----------------------+------------------+-------------------+-------------------+
| Debian Bullseye | PASS | SKIPPED | PASS | PASS | SKIPPED |
+---------------------+--------------------+----------------------+------------------+-------------------+-------------------+
| Debian 12 | PASS | SKIPPED | PASS | PASS | SKIPPED |
+---------------------+--------------------+----------------------+------------------+-------------------+-------------------+
FreeBSD 13.3
Kernel: 13.3-RELEASE-p1
Compiler: clang 17.0.6
Windows Server 2022
Kernel: 10.0.20348.2031
Compiler: clang 15.0.7, gcc 8.1.0 (MinGW), and MSVC VS 17.9
Windows Server 2019
Kernel: 10.0.17763
Compiler: clang 14.0 and gcc 8.1.0 (MinGW)
Debian Bullseye
Kernel: 5.4.0-167-generic
Compiler: gcc 10.2.1-6
Debian 12
Kernel: Container Host Kernel
Compiler: gcc 12.2.0
To view detailed results, visit:
https://lab.dpdk.org/results/dashboard/patchsets/30214/
UNH-IOL DPDK Community Lab
To manage your email subscriptions, visit:
https://lab.dpdk.org/results/dashboard/preferences/subscriptions/
More information about the test-report
mailing list