|SUCCESS| pw141207 [PATCH] vhost: Fix the crash caused by accessing 
    dpdklab at iol.unh.edu 
    dpdklab at iol.unh.edu
       
    Tue Jun 18 04:28:01 CEST 2024
    
    
  
Test-Label: iol-abi-testing
Test-Status: SUCCESS
http://dpdk.org/patch/141207
_Testing PASS_
Submitter: zhaoxinxin <15957197901 at 163.com>
Date: Monday, June 17 2024 03:35:39 
DPDK git baseline: Repo:dpdk
  Branch: master
  CommitID:b303beb6a9b12df49124ee0701027ca72be7aee1
141207 --> testing pass
Test environment and result as below:
+------------------+----------+
|   Environment    | abi_test |
+==================+==========+
| Fedora 39        | PASS     |
+------------------+----------+
| CentOS Stream 8  | PASS     |
+------------------+----------+
| CentOS Stream 9  | PASS     |
+------------------+----------+
| Fedora 40        | PASS     |
+------------------+----------+
| Fedora 38        | PASS     |
+------------------+----------+
| Debian Bullseye  | PASS     |
+------------------+----------+
| openSUSE Leap 15 | PASS     |
+------------------+----------+
| Fedora 37        | PASS     |
+------------------+----------+
| Ubuntu 22.04     | PASS     |
+------------------+----------+
| RHEL9            | PASS     |
+------------------+----------+
| RHEL8            | PASS     |
+------------------+----------+
| Ubuntu 24.04     | PASS     |
+------------------+----------+
| Debian 12        | PASS     |
+------------------+----------+
Fedora 39
	Kernel: Depends on container host
	Compiler: clang 17.0.6
CentOS Stream 8
	Kernel: 5.4.0-167-generic
	Compiler: gcc 8.5.0 20210514
CentOS Stream 9
	Kernel: 5.4.0-167-generic
	Compiler: gcc 11.4.1 20230605
Fedora 40
	Kernel: Depends on container host
	Compiler: clang 18.1.6
Fedora 38
	Kernel: Depends on container host
	Compiler: gcc 13.2.1
Debian Bullseye
	Kernel: 5.4.0-167-generic
	Compiler: gcc 10.2.1-6
openSUSE Leap 15
	Kernel: 5.4.0-167-generic
	Compiler: gcc 7.5.0
Fedora 37
	Kernel: Depends on container host system
	Compiler: gcc 12.3.1
Ubuntu 22.04
	Kernel: 5.4.0-167-generic
	Compiler: gcc 11.4.0
RHEL9
	Kernel: Depends on container host
	Compiler: gcc 11.4.1
RHEL8
	Kernel: 5.4.0-167-generic
	Compiler: gcc 8.5.0 20210514 (Red Hat 8.5.0-20)
Ubuntu 24.04
	Kernel: 5.4.0-167-generic
	Compiler: gcc 13.2.0
Debian 12
	Kernel: Container Host Kernel
	Compiler: gcc 12.2.0
To view detailed results, visit:
https://lab.dpdk.org/results/dashboard/patchsets/30210/
UNH-IOL DPDK Community Lab
To manage your email subscriptions, visit: 
https://lab.dpdk.org/results/dashboard/preferences/subscriptions/
    
    
More information about the test-report
mailing list