|SUCCESS| pw141208 [PATCH] doc/guides: fix link to internal hugepage
dpdklab at iol.unh.edu
dpdklab at iol.unh.edu
Tue Jun 18 05:37:12 CEST 2024
Test-Label: iol-unit-amd64-testing
Test-Status: SUCCESS
http://dpdk.org/patch/141208
_Testing PASS_
Submitter: David Marchand <david.marchand at redhat.com>
Date: Monday, June 17 2024 14:29:08
DPDK git baseline: Repo:dpdk
Branch: master
CommitID:2a3b212fafaab648cf8abf771da427c991cd5de8
141208 --> testing pass
Test environment and result as below:
+------------------+----------------+
| Environment | dpdk_unit_test |
+==================+================+
| Debian Bullseye | PASS |
+------------------+----------------+
| CentOS Stream 9 | PASS |
+------------------+----------------+
| CentOS Stream 8 | PASS |
+------------------+----------------+
| Debian 12 | PASS |
+------------------+----------------+
| Fedora 38 | PASS |
+------------------+----------------+
| Fedora 37 | PASS |
+------------------+----------------+
| Fedora 39 | PASS |
+------------------+----------------+
| Fedora 40 | PASS |
+------------------+----------------+
| RHEL8 | PASS |
+------------------+----------------+
| RHEL9 | PASS |
+------------------+----------------+
| Ubuntu 20.04 | PASS |
+------------------+----------------+
| openSUSE Leap 15 | PASS |
+------------------+----------------+
| Ubuntu 22.04 | PASS |
+------------------+----------------+
| Ubuntu 24.04 | PASS |
+------------------+----------------+
Debian Bullseye
Kernel: 5.4.0-167-generic
Compiler: gcc 10.2.1-6
CentOS Stream 9
Kernel: 5.4.0-167-generic
Compiler: gcc 11.4.1 20230605
CentOS Stream 8
Kernel: 5.4.0-167-generic
Compiler: gcc 8.5.0 20210514
Debian 12
Kernel: Container Host Kernel
Compiler: gcc 12.2.0
Fedora 38
Kernel: Depends on container host
Compiler: gcc 13.2.1
Fedora 37
Kernel: Depends on container host system
Compiler: gcc 12.3.1
Fedora 39
Kernel: Depends on container host
Compiler: gcc 13.2.1
Fedora 40
Kernel: Depends on container host
Compiler: gcc 14.1.1
RHEL8
Kernel: 5.4.0-167-generic
Compiler: gcc 8.5.0 20210514 (Red Hat 8.5.0-20)
RHEL9
Kernel: Depends on container host
Compiler: gcc 11.4.1
Ubuntu 20.04
Kernel: 5.4.0-167-generic
Compiler: gcc 9.4.0-1ubuntu1~20.04.1
openSUSE Leap 15
Kernel: 5.4.0-167-generic
Compiler: gcc 7.5.0
Ubuntu 22.04
Kernel: 5.4.0-167-generic
Compiler: gcc 11.4.0
Ubuntu 24.04
Kernel: 5.4.0-167-generic
Compiler: gcc 13.2.0
To view detailed results, visit:
https://lab.dpdk.org/results/dashboard/patchsets/30211/
UNH-IOL DPDK Community Lab
To manage your email subscriptions, visit:
https://lab.dpdk.org/results/dashboard/preferences/subscriptions/
More information about the test-report
mailing list