|SUCCESS| pw141207 [PATCH] vhost: Fix the crash caused by accessing

dpdklab at iol.unh.edu dpdklab at iol.unh.edu
Tue Jun 18 06:00:27 CEST 2024


Test-Label: iol-compile-arm64-testing
Test-Status: SUCCESS
http://dpdk.org/patch/141207

_Testing PASS_

Submitter: zhaoxinxin <15957197901 at 163.com>
Date: Monday, June 17 2024 03:35:39 
DPDK git baseline: Repo:dpdk
  Branch: master
  CommitID:b303beb6a9b12df49124ee0701027ca72be7aee1

141207 --> testing pass

Test environment and result as below:

+----------------------+--------------------+
|     Environment      | dpdk_meson_compile |
+======================+====================+
| Ubuntu 20.04 ARM SVE | PASS               |
+----------------------+--------------------+
| Debian 12 with MUSDK | PASS               |
+----------------------+--------------------+
| RHEL9 (ARM)          | PASS               |
+----------------------+--------------------+
| Fedora 40 (ARM)      | PASS               |
+----------------------+--------------------+
| Fedora 37 (ARM)      | PASS               |
+----------------------+--------------------+


Ubuntu 20.04 ARM SVE
	Kernel: 5.4.0-167-generic
	Compiler: gcc (Ubuntu 10.5.0-1ubuntu1~20.04) 10.5.0

Debian 12 with MUSDK
	Kernel: Container Host Kernel
	Compiler: gcc 12.2.0

RHEL9 (ARM)
	Kernel: Depends on container host
	Compiler: gcc 11.4.1

Fedora 40 (ARM)
	Kernel: Depends on container host
	Compiler: gcc 14.1.1

Fedora 37 (ARM)
	Kernel: Depends on container host
	Compiler: gcc 12.3.1

To view detailed results, visit:
https://lab.dpdk.org/results/dashboard/patchsets/30210/

UNH-IOL DPDK Community Lab

To manage your email subscriptions, visit: 
https://lab.dpdk.org/results/dashboard/preferences/subscriptions/


More information about the test-report mailing list