|SUCCESS| pw141207 [PATCH] vhost: Fix the crash caused by accessing
dpdklab at iol.unh.edu
dpdklab at iol.unh.edu
Tue Jun 18 06:39:40 CEST 2024
Test-Label: iol-unit-arm64-testing
Test-Status: SUCCESS
http://dpdk.org/patch/141207
_Testing PASS_
Submitter: zhaoxinxin <15957197901 at 163.com>
Date: Monday, June 17 2024 03:35:39
DPDK git baseline: Repo:dpdk
Branch: master
CommitID:b303beb6a9b12df49124ee0701027ca72be7aee1
141207 --> testing pass
Test environment and result as below:
+-----------------------------+----------------+--------------+
| Environment | dpdk_unit_test | lpm_autotest |
+=============================+================+==============+
| 32-bit Ubuntu 20.04.4 (ARM) | PASS | SKIPPED |
+-----------------------------+----------------+--------------+
| Debian 11 (Buster) (ARM) | PASS | SKIPPED |
+-----------------------------+----------------+--------------+
| CentOS Stream 9 (ARM) | PASS | SKIPPED |
+-----------------------------+----------------+--------------+
| Fedora 38 (ARM) | PASS | SKIPPED |
+-----------------------------+----------------+--------------+
| Fedora 37 (ARM) | PASS | SKIPPED |
+-----------------------------+----------------+--------------+
| Debian 12 (arm) | PASS | SKIPPED |
+-----------------------------+----------------+--------------+
| Fedora 39 (ARM) | PASS | SKIPPED |
+-----------------------------+----------------+--------------+
| Fedora 40 (ARM) | PASS | SKIPPED |
+-----------------------------+----------------+--------------+
| Fedora 39 (ARM Clang) | PASS | SKIPPED |
+-----------------------------+----------------+--------------+
| Fedora 40 (ARM Clang) | PASS | SKIPPED |
+-----------------------------+----------------+--------------+
| Ubuntu 20.04 ARM SVE | SKIPPED | PASS |
+-----------------------------+----------------+--------------+
32-bit Ubuntu 20.04.4 (ARM)
Kernel: 5.4.0-155-generic aarch64
Compiler: gcc 9.4
Debian 11 (Buster) (ARM)
Kernel: Container Host Kernel
Compiler: gcc 10.2.1
CentOS Stream 9 (ARM)
Kernel: Container Host Kernel
Compiler: gcc 11.4.1
Fedora 38 (ARM)
Kernel: Depends on container host
Compiler: gcc 13.2.1
Fedora 37 (ARM)
Kernel: Depends on container host
Compiler: gcc 12.3.1
Debian 12 (arm)
Kernel: Container Host Kernel
Compiler: gcc 12.2.0
Fedora 39 (ARM)
Kernel: Depends on container host
Compiler: gcc 13.2.1
Fedora 40 (ARM)
Kernel: Depends on container host
Compiler: gcc 14.1.1
Fedora 39 (ARM Clang)
Kernel: Depends on container host
Compiler: clang 17.0.6
Fedora 40 (ARM Clang)
Kernel: Depends on container host
Compiler: clang 18.1.6
Ubuntu 20.04 ARM SVE
Kernel: 5.4.0-167-generic
Compiler: gcc (Ubuntu 10.5.0-1ubuntu1~20.04) 10.5.0
To view detailed results, visit:
https://lab.dpdk.org/results/dashboard/patchsets/30210/
UNH-IOL DPDK Community Lab
To manage your email subscriptions, visit:
https://lab.dpdk.org/results/dashboard/preferences/subscriptions/
More information about the test-report
mailing list